BEGIN:VCALENDAR
VERSION:2.0
PRODID:-//ChamberMaster//Event Calendar 2.0//EN
METHOD:PUBLISH
X-PUBLISHED-TTL:P3D
REFRESH-INTERVAL:P3D
CALSCALE:GREGORIAN
BEGIN:VEVENT
DTSTART:20260418T150000Z
DTEND:20260418T180000Z
X-MICROSOFT-CDO-ALLDAYEVENT:FALSE
SUMMARY:Writing on Rivers with Matthew Duffy
DESCRIPTION:Writing on Rivers with Matthew Duffy\n\n590 Water St\, Prairie du Sac\, WI 53578\n\nSaturday\, April 18\, 2026 | 10-1p | Deadline to register: April 15\, 2026\n\n$48\n\nWhat to bring: Notebook\, pen\, and/or something to type on (laptop\, ipads\, etc.)\n\nLevel: No prior experience necessary. This class is appropriate for writers of any level\, whether you identify as a poet or a prose writer\, or somewhere in between!\n\nAges 14+\n\nIn this relaxed and inspiring creative writing workshop\, we'll explore the basics of poetry and creative nonfiction\, all through the lens of nature. Whether you're brand new to writing or looking to spark new ideas\, you'll use easy\, guided prompts to help you create your own pieces.\n\nAs we sit along the beautiful western bank of the largest river in Wisconsin\, we'll reflect on the way flowing water supports life all around it and use that as inspiration for our writing. No experience needed just curiosity and a love of the natural world.\n\nArist Bio:  Matthew resides in Merrimac\, Wisconsin\, on the sacred Ho-Chunk ancestral land. He is a published environmentalist\, essayist\, and poet. Matthew is a member of the Driftless Writing Center\, the editor of the Alder Fork Journal\, and a board member of the Aldo Leopold Chapter of Trout Unlimited.
X-ALT-DESC;FMTTYPE=text/html:<h2>Writing on Rivers with Matthew Duffy</h2>\n\n<p><strong>590 Water St\, Prairie du Sac\, WI 53578</strong></p>\n\n<p><strong>Saturday\, April 18\, 2026 | 10-1p</strong>&nbsp\;| Deadline to register: April 15\, 2026</p>\n\n<p><strong>$48</strong></p>\n\n<p><strong>What to bring:&nbsp\;</strong>Notebook\, pen\, and/or something to type on (laptop\, ipads\, etc.)</p>\n\n<p><strong>Level:&nbsp\;</strong>No prior experience necessary. This class is appropriate for writers of any level\, whether you identify as a poet or a prose writer\, or somewhere in between!</p>\n\n<p><strong>Ages 14+</strong></p>\n\n<p>In this relaxed and inspiring creative writing workshop\, we&rsquo\;ll explore the basics of poetry and creative nonfiction\, all through the lens of nature. Whether you&rsquo\;re brand new to writing or looking to spark new ideas\, you&rsquo\;ll use easy\, guided prompts to help you create your own pieces.</p>\n\n<p>As we sit along the beautiful western bank of the largest river in Wisconsin\, we&rsquo\;ll reflect on the way flowing water supports life all around it&mdash\;and use that as inspiration for our writing. No experience needed&mdash\;just curiosity and a love of the natural world.</p>\n\n<p><strong>Arist Bio:&nbsp\;</strong>&nbsp\;Matthew resides in Merrimac\, Wisconsin\, on the sacred Ho-Chunk ancestral land. He is a published environmentalist\, essayist\, and poet. Matthew is a member of the Driftless Writing Center\, the editor of the Alder Fork Journal\, and a board member of the Aldo Leopold Chapter of Trout Unlimited.</p>\n
LOCATION:590 Water St\, Prairie du Sac\, WI 53578
UID:e.1184.37008
SEQUENCE:3
DTSTAMP:20260422T065349Z
URL:https://scms.saukprairie.com/events/details/writing-on-rivers-with-matthew-duffy-37008
END:VEVENT

END:VCALENDAR
