BEGIN:VCALENDAR
VERSION:2.0
PRODID:-//ChamberMaster//Event Calendar 2.0//EN
METHOD:PUBLISH
X-PUBLISHED-TTL:P3D
REFRESH-INTERVAL:P3D
CALSCALE:GREGORIAN
BEGIN:VEVENT
DTSTART;VALUE=DATE:20260311
DTEND;VALUE=DATE:20260312
TRANSP:TRANSPARENT
X-MICROSOFT-CDO-ALLDAYEVENT:TRUE
SUMMARY:Weekday Bistro Lunch Special at Wollersheim
DESCRIPTION:Weekday Bistro Lunch Special\n\nMondays\, Tuesdays & Wednesdays in March\n\nTake a midweek break and enjoy a relaxing lunch in the Wollersheim Bistro. Throughout March\, guests dining on Mondays\, Tuesdays\, or Wednesdays will receive a complimentary glass of Wollersheim wine with their meal. It?s the perfect opportunity to enjoy seasonal bistro dishes paired with locally crafted wine in a beautiful vineyard setting.
X-ALT-DESC;FMTTYPE=text/html:<h2 data-end="690" data-section-id="1tfwi95" data-start="657">Weekday Bistro Lunch Special</h2>\n\n<p data-end="734" data-start="691"><strong data-end="734" data-start="691">Mondays\, Tuesdays &amp\; Wednesdays in March</strong></p>\n\n<p data-end="1085" data-start="736">Take a midweek break and enjoy a relaxing lunch in the Wollersheim Bistro. Throughout March\, guests dining on <strong data-end="882" data-start="846">Mondays\, Tuesdays\, or Wednesdays</strong> will receive a <strong data-end="941" data-start="898">complimentary glass of Wollersheim wine</strong> with their meal. It?s the perfect opportunity to enjoy seasonal bistro dishes paired with locally crafted wine in a beautiful vineyard setting.</p>\n
LOCATION:Wollersheim Winery\, Distillery & Bistro
UID:e.1184.37084
SEQUENCE:3
DTSTAMP:20260422T075614Z
URL:https://scms.saukprairie.com/events/details/weekday-bistro-lunch-special-at-wollersheim-37084
END:VEVENT

END:VCALENDAR
