BEGIN:VCALENDAR
VERSION:2.0
PRODID:-//ChamberMaster//Event Calendar 2.0//EN
METHOD:PUBLISH
X-PUBLISHED-TTL:P3D
REFRESH-INTERVAL:P3D
CALSCALE:GREGORIAN
BEGIN:VEVENT
DTSTART:20260225T003000Z
DTEND:20260225T013000Z
X-MICROSOFT-CDO-ALLDAYEVENT:FALSE
SUMMARY:Trivia Night for Teens
DESCRIPTION:Join us at the library for a Trivia Nite and win prizes! Featuring questions about new movies\, TV shows\, book characters and more! Play solo or bring a team of friends! Geared for ages 12-17. No registration required.
X-ALT-DESC;FMTTYPE=text/html:Join us at the library for a Trivia Nite and win prizes! Featuring questions about new movies\, TV shows\, book characters and more! Play solo or bring a team of friends! Geared for ages 12-17. No registration required.
LOCATION:George Culver Community Library - Sauk City
UID:e.1184.36947
SEQUENCE:3
DTSTAMP:20260422T100658Z
URL:https://scms.saukprairie.com/events/details/trivia-night-for-teens-36947
END:VEVENT

END:VCALENDAR
