BEGIN:VCALENDAR
VERSION:2.0
PRODID:-//ChamberMaster//Event Calendar 2.0//EN
METHOD:PUBLISH
X-PUBLISHED-TTL:P3D
REFRESH-INTERVAL:P3D
CALSCALE:GREGORIAN
BEGIN:VEVENT
DTSTART:20260311T000000Z
DTEND:20260311T010000Z
X-MICROSOFT-CDO-ALLDAYEVENT:FALSE
SUMMARY:"The Night Peshtigo Died"
DESCRIPTION:Lodi author and editor\, Michelle Chizek will discuss her newly released book\, "The Night Peshtigo Died". Before\, during and after the disastrous Peshtigo Fire of October 8\, 1871.
X-ALT-DESC;FMTTYPE=text/html:Lodi author and editor\, Michelle Chizek will discuss her newly released book\, &quot\;The Night Peshtigo Died&quot\;. Before\, during and after the disastrous Peshtigo Fire of October 8\, 1871.
LOCATION:West Point Town Hall N2114 Rausch Road Lodi 53555
UID:e.1184.36991
SEQUENCE:3
DTSTAMP:20260422T081434Z
URL:https://scms.saukprairie.com/events/details/the-night-peshtigo-died-36991
END:VEVENT

END:VCALENDAR
