BEGIN:VCALENDAR
VERSION:2.0
PRODID:-//ChamberMaster//Event Calendar 2.0//EN
METHOD:PUBLISH
X-PUBLISHED-TTL:P3D
REFRESH-INTERVAL:P3D
CALSCALE:GREGORIAN
BEGIN:VEVENT
DTSTART:20260215T153000Z
DTEND:20260215T210000Z
X-MICROSOFT-CDO-ALLDAYEVENT:FALSE
SUMMARY:Sunday Brunch at Wollersheim Bistro
DESCRIPTION:Keep the Valentine's love going!  \n\n\n\nJoin us for a Post-Valentine's Day Sunday Brunch at the Wollersheim Bistro. Treat yourself to a delicious special brunch menu served from 9:30 AM to 3:00 PM (winter & spring hours).\n\n  Wine and cocktails available to make it extra special!\n\n  No reservations needed   seating is first come\, first served.\n\n  Make a day of it!\n\nThe Winery will be open from 9:30 AM to 5:00 PM\, and the Distillery from 12:00 PM to 5:00 PM.\n\nGreat food\, great drinks\, and a perfect Sunday plan see you there!
X-ALT-DESC;FMTTYPE=text/html:<div color:="" font-size:="" segoe="" ui="">\n<p data-end="317" data-start="79">&#128152\; <strong data-end="118" data-start="82">Keep the Valentine&rsquo\;s love going!</strong> &#128152\;<br />\n<br data-end="124" data-start="121" />\nJoin us for a <strong data-end="176" data-start="138">Post-Valentine&rsquo\;s Day Sunday Brunch</strong> at the <strong data-end="206" data-is-only-node="" data-start="184">Wollersheim Bistro</strong>. Treat yourself to a delicious special brunch menu served from <strong data-end="292" data-start="270">9:30 AM to 3:00 PM</strong> (winter &amp\; spring hours).</p>\n\n<p data-end="451" data-start="319">&#129346\; <strong data-end="354" data-start="322">Wine and cocktails available</strong> to make it extra special!<br data-end="383" data-start="380" />\n&#129681\; <strong data-end="412" data-start="386">No reservations needed</strong> &mdash\; seating is first come\, first served.</p>\n\n<p data-end="584" data-start="453">&#10024\; Make a day of it!<br data-end="475" data-start="472" />\nThe <strong data-end="489" data-start="479">Winery</strong> will be open from <strong data-end="530" data-start="508">9:30 AM to 5:00 PM</strong>\, and the <strong data-end="554" data-is-only-node="" data-start="540">Distillery</strong> from <strong data-end="583" data-start="560">12:00 PM to 5:00 PM</strong>.</p>\n\n<p data-end="657" data-is-last-node="" data-is-only-node="" data-start="586">Great food\, great drinks\, and a perfect Sunday plan&mdash\;see you there! &#127859\;&#127863\;</p>\n</div>\n
LOCATION:Wollersheim Bistro
UID:e.1184.36995
SEQUENCE:3
DTSTAMP:20260422T101102Z
URL:https://scms.saukprairie.com/events/details/sunday-brunch-at-wollersheim-bistro-36995
END:VEVENT

END:VCALENDAR
