BEGIN:VCALENDAR
VERSION:2.0
PRODID:-//ChamberMaster//Event Calendar 2.0//EN
METHOD:PUBLISH
X-PUBLISHED-TTL:P3D
REFRESH-INTERVAL:P3D
CALSCALE:GREGORIAN
BEGIN:VEVENT
DTSTART:20260620T160000Z
DTEND:20260621T020000Z
X-MICROSOFT-CDO-ALLDAYEVENT:FALSE
SUMMARY:Summer Solstice
DESCRIPTION:Celebrate the longest day of the year with food trucks\, live music\, beer garden\, sport tournaments\, kids games and much more! Event will be held at Culver Community Park!\n\n\n\nFESTIVITIES: Kids Activities Craft & Vendor Fair Food Trucks Beer Garden Power Hour Bingo Live Music Silent Auction Pickleball Tournament all day
X-ALT-DESC;FMTTYPE=text/html:Celebrate the longest day of the year with food trucks\, live music\, beer garden\, sport tournaments\, kids games and much more! Event will be held at Culver Community Park!<br />\n<br />\nFESTIVITIES: Kids Activities Craft &amp\; Vendor Fair Food Trucks Beer Garden Power Hour Bingo Live Music Silent Auction Pickleball Tournament all day
LOCATION:Culver Community Park 340 21st Street\, Prairie Du Sac\, WI 53578
UID:e.1184.36983
SEQUENCE:3
DTSTAMP:20260422T113305Z
URL:https://scms.saukprairie.com/events/details/summer-solstice-06-20-2026-36983
END:VEVENT

END:VCALENDAR
