BEGIN:VCALENDAR
VERSION:2.0
PRODID:-//ChamberMaster//Event Calendar 2.0//EN
METHOD:PUBLISH
X-PUBLISHED-TTL:P3D
REFRESH-INTERVAL:P3D
CALSCALE:GREGORIAN
BEGIN:VEVENT
DTSTART:20260626T170000Z
DTEND:20260627T010000Z
X-MICROSOFT-CDO-ALLDAYEVENT:FALSE
SUMMARY:Summer Serenades at Wollersheim
DESCRIPTION:Join us for extended hours\, delicious food\, refreshing drinks\, and live music on these summer Fridays! No reservations are needed. We'll have music playing at both the Wine Garden and on the Distillery Patio. Soak up the beauty of the summer while sipping and taking in the views.
X-ALT-DESC;FMTTYPE=text/html:<div>Join us for extended hours\, delicious food\, refreshing drinks\, and live music on these summer Fridays! No reservations are needed. We&rsquo\;ll have music playing at both the Wine Garden and on the Distillery Patio. Soak up the beauty of the summer while sipping and taking in the views.</div>\n
LOCATION:Wollersheim Winery\, Distillery & Bistro
UID:e.1184.37094
SEQUENCE:3
DTSTAMP:20260422T095723Z
URL:https://scms.saukprairie.com/events/details/summer-serenades-at-wollersheim-37094
END:VEVENT

END:VCALENDAR
