BEGIN:VCALENDAR
VERSION:2.0
PRODID:-//ChamberMaster//Event Calendar 2.0//EN
METHOD:PUBLISH
X-PUBLISHED-TTL:P3D
REFRESH-INTERVAL:P3D
CALSCALE:GREGORIAN
BEGIN:VEVENT
DTSTART;VALUE=DATE:20260206
DTEND;VALUE=DATE:20260207
TRANSP:TRANSPARENT
X-MICROSOFT-CDO-ALLDAYEVENT:TRUE
SUMMARY:SP Boosters Rock the Gym
DESCRIPTION:ROCK THE GYM   \n\nJoin us for Rock the Gym on Friday\, February 6th at Sauk Prairie High School and help us pack the gym with Eagle pride!\n\nCome out and support our student athletes as the Sauk Prairie Eagles take on conference opponents in an exciting night of basketball:\n\nSP Girls vs. Baraboo\n\n\n	\n	Girls JV @ 4:15 PM\n	\n	\n	Girls Varsity @ 5:45 PM\n	\n\n\nSP Boys vs. Edgewood\n\n\n	\n	Boys JV2 @ 5:45 PM\n	\n	\n	Boys JV @ 5:45 PM\n	\n	\n	Boys Varsity @ 7:15 PM\n	\n\n\nEnjoy a fun-filled evening featuring:\n\n\n	\n	   Raffles\n	\n	\n	  50/50 drawings\n	\n	\n	  Prizes\n	\n	\n	  High-energy basketball action\n	\n\n\nBring your friends\, wear your red & black\, and help us Rock the Gym in support of Eagle athletics!\n\nFor more information\, visit\n\nwww.saukprairiesportsboosters.org\n\nGO EAGLES!!!
X-ALT-DESC;FMTTYPE=text/html:<div color:="" font-size:="" segoe="" ui="">\n<div dir="auto">\n<p data-end="192" data-start="171">ROCK THE GYM &#129413\;&#127936\;</p>\n\n<p data-end="325" data-start="194">Join us for Rock the Gym on Friday\, February 6th at Sauk Prairie High School and help us pack the gym with Eagle pride!</p>\n\n<p data-end="464" data-start="327">Come out and support our student athletes as the Sauk Prairie Eagles take on conference opponents in an exciting night of basketball:</p>\n\n<p data-end="490" data-start="466">SP Girls vs. Baraboo</p>\n\n<ul data-end="547" data-start="491">\n	<li data-end="517" data-start="491">\n	<p data-end="517" data-start="493">Girls JV @ 4:15 PM</p>\n	</li>\n	<li data-end="547" data-start="518">\n	<p data-end="547" data-start="520">Girls Varsity @ 5:45 PM</p>\n	</li>\n</ul>\n\n<p data-end="573" data-start="549">SP Boys vs. Edgewood</p>\n\n<ul data-end="655" data-start="574">\n	<li data-end="600" data-start="574">\n	<p data-end="600" data-start="576">Boys JV2 @ 5:45 PM</p>\n	</li>\n	<li data-end="626" data-start="601">\n	<p data-end="626" data-start="603">Boys JV @ 5:45 PM</p>\n	</li>\n	<li data-end="655" data-start="627">\n	<p data-end="655" data-start="629">Boys Varsity @ 7:15 PM</p>\n	</li>\n</ul>\n\n<p data-end="694" data-start="657">Enjoy a fun-filled evening featuring:</p>\n\n<ul data-end="783" data-start="695">\n	<li data-end="710" data-start="695">\n	<p data-end="710" data-start="697">&#127903\;&#65039\; Raffles</p>\n	</li>\n	<li data-end="732" data-start="711">\n	<p data-end="732" data-start="713">&#128181\; 50/50 drawings</p>\n	</li>\n	<li data-end="746" data-start="733">\n	<p data-end="746" data-start="735">&#127873\; Prizes</p>\n	</li>\n	<li data-end="783" data-start="747">\n	<p data-end="783" data-start="749">&#127936\; High-energy basketball action</p>\n	</li>\n</ul>\n\n<p data-end="887" data-start="785">Bring your friends\, wear your red &amp\; black\, and help us Rock the Gym in support of Eagle athletics!</p>\n\n<p data-end="956" data-start="889">For more information\, visit<br data-end="919" data-start="916" />\n<a data-end="954" data-start="921" rel="noopener" target="_new">www.saukprairiesportsboosters.org<svg aria-hidden="true" data-rtl-flip="" xmlns="http://www.w3.org/2000/svg"><use fill="currentColor" href="/cdn/assets/sprites-core-mr1omm3f.svg#304883"></use></svg></a></p>\n\n<p data-end="979" data-start="958">GO EAGLES!!! &#129413\;&#128293\;</p>\n</div>\n</div>\n
LOCATION:Sauk Prairie High School Gym
UID:e.1184.36974
SEQUENCE:3
DTSTAMP:20260422T100957Z
URL:https://scms.saukprairie.com/events/details/sp-boosters-rock-the-gym-36974
END:VEVENT

END:VCALENDAR
