BEGIN:VCALENDAR
VERSION:2.0
PRODID:-//ChamberMaster//Event Calendar 2.0//EN
METHOD:PUBLISH
X-PUBLISHED-TTL:P3D
REFRESH-INTERVAL:P3D
CALSCALE:GREGORIAN
BEGIN:VEVENT
DTSTART:20260216T180000Z
DTEND:20260216T190000Z
X-MICROSOFT-CDO-ALLDAYEVENT:FALSE
SUMMARY:Soup with the Supt
DESCRIPTION:Community Soup Luncheon & District Update\n\nThe Sauk Prairie School District invites older residents to join Superintendent Jeff Wright for a free soup luncheon on Monday\, February 16th at noon at Sauk Prairie High School.\n\nDuring lunch\, Superintendent Wright will share updates from around the district and take time to answer questions from the community. February 16th is Presidents Day and a non-attendance day for students\, making it a great opportunity to connect.\n\nRSVPs are requested so we can plan soup preferences.\n\nPlease RSVP by:\n\n\n	\n	Calling Melissa at 608-643-5981\, or\n	\n	\n	Completing the short online RSVP form \n	\n\n\nHelp spread the word by sharing this invitation with friends and neighbors. We hope to see you there!
X-ALT-DESC;FMTTYPE=text/html:<p data-end="233" data-start="188"><strong data-end="233" data-start="188">Community Soup Luncheon &amp\; District Update</strong></p>\n\n<p data-end="433" data-start="235">The <strong data-end="271" data-start="239">Sauk Prairie School District</strong> invites older residents to join <strong data-end="334" data-start="304">Superintendent Jeff Wright</strong> for a <strong data-end="363" data-start="341">free soup luncheon</strong> on <strong data-end="400" data-start="367">Monday\, February 16th at noon</strong> at <strong data-end="432" data-start="404">Sauk Prairie High School</strong>.</p>\n\n<p data-end="689" data-start="435">During lunch\, Superintendent Wright will share updates from around the district and take time to answer questions from the community. February 16th is <strong data-end="604" data-start="586">Presidents Day</strong> and a <strong data-end="646" data-start="611">non-attendance day for students</strong>\, making it a great opportunity to connect.</p>\n\n<p data-end="765" data-start="691"><strong data-end="714" data-start="691">RSVPs are requested</strong> so we can plan soup preferences.<br data-end="750" data-start="747" />\nPlease RSVP by:</p>\n\n<ul data-end="881" data-start="766">\n	<li data-end="809" data-start="766">\n	<p data-end="809" data-start="768">Calling <strong data-end="803" data-start="776">Melissa at 608-643-5981</strong>\, or</p>\n	</li>\n	<li data-end="881" data-start="810">\n	<p data-end="881" data-start="812">Completing the short <u><a href="https://docs.google.com/forms/d/e/1FAIpQLSdMDlqyDsIFi-BFGT2KopPS63NFlOfG_aykbG1c2jq0dX-4VA/viewform?usp=header"><strong data-end="853" data-start="833">online RSVP form</strong>&nbsp\;</a></u></p>\n	</li>\n</ul>\n\n<p data-end="984" data-start="883">Help spread the word by sharing this invitation with friends and neighbors. We hope to see you there!</p>\n
LOCATION:Sauk Prairie High School
UID:e.1184.36975
SEQUENCE:3
DTSTAMP:20260422T113305Z
URL:https://scms.saukprairie.com/events/details/soup-with-the-supt-36975
END:VEVENT

END:VCALENDAR
