BEGIN:VCALENDAR
VERSION:2.0
PRODID:-//ChamberMaster//Event Calendar 2.0//EN
METHOD:PUBLISH
X-PUBLISHED-TTL:P3D
REFRESH-INTERVAL:P3D
CALSCALE:GREGORIAN
BEGIN:VEVENT
DTSTART:20260228T170000Z
DTEND:20260228T190000Z
X-MICROSOFT-CDO-ALLDAYEVENT:FALSE
SUMMARY:Soup & Chili Cookoff
DESCRIPTION:Join us for the Soup & Chili Cookoff Fundraiser benefiting SUPERO (Support People & Empower Recovery Coalition)\, sponsored by Project WisHope. This family-friendly community event supports and empowers people in recovery from substance use.\n\nEnjoy a delicious lunch featuring soups and chilis donated by local restaurants\, a bake sale\, and the chance to vote for your favorite soup or chili. Stick around for FREE Bingo with prizes\, a 50/50 raffle\, and a silent auction featuring items donated by local businesses.\n\nSuggested donation: $5 (no one turned away)\n\nEveryone is welcome!\n\nSchedule:\n\n  11:00 12:30 PM   Lunch & Bake Sale\n\n  12:30 1:00 PM   FREE Bingo with prizes\n\n  50/50 Raffle & Silent Auction throughout the event\n\nLocation: Voyageur Inn & Conference Center in Reedsburg - 200 Viking Dr\, Reedsburg\n\nFree transportation available call or text Hannah Erdman at 608-963-8467 with questions or for more information.\n\nCome enjoy great food\, fun activities\, and support an important cause in our community!
X-ALT-DESC;FMTTYPE=text/html:<p data-end="388" data-start="136">Join us for the <strong data-end="187" data-start="152">Soup &amp\; Chili Cookoff Fundraiser</strong> benefiting <strong data-end="255" data-start="199">SUPERO (Support People &amp\; Empower Recovery Coalition)</strong>\, sponsored by <strong data-end="289" data-start="270">Project WisHope</strong>. This family-friendly community event supports and empowers people in recovery from substance use.</p>\n\n<p data-end="686" data-start="390">Enjoy a delicious lunch featuring <strong data-end="473" data-start="424">soups and chilis donated by local restaurants</strong>\, a <strong data-end="490" data-start="477">bake sale</strong>\, and the chance to <strong data-end="550" data-start="510">vote for your favorite soup or chili</strong>. Stick around for <strong data-end="595" data-start="569">FREE Bingo with prizes</strong>\, a <strong data-end="615" data-start="599">50/50 raffle</strong>\, and a <strong data-end="641" data-start="623">silent auction</strong> featuring items donated by local businesses.</p>\n\n<p data-end="762" data-start="688"><strong data-end="711" data-start="688">Suggested donation:</strong> $5 (no one turned away)<br data-end="738" data-start="735" />\n<strong data-end="762" data-start="738">Everyone is welcome!</strong></p>\n\n<p data-end="914" data-start="764"><strong data-end="777" data-start="764">Schedule:</strong><br data-end="780" data-start="777" />\n&bull\; 11:00&ndash\;12:30 PM &ndash\; Lunch &amp\; Bake Sale<br data-end="819" data-start="816" />\n&bull\; 12:30&ndash\;1:00 PM &ndash\; FREE Bingo with prizes<br data-end="862" data-start="859" />\n&bull\; 50/50 Raffle &amp\; Silent Auction throughout the event</p>\n\n<p data-end="1086" data-start="916"><strong data-end="929" data-start="916">Location:</strong> Voyageur Inn &amp\; Conference Center in Reedsburg - 200 Viking Dr\, Reedsburg<br data-end="966" data-start="963" />\n<strong data-end="999" data-start="966">Free transportation available</strong>&mdash\;call or text Hannah Erdman at <strong data-end="1046" data-start="1030">608-963-8467</strong> with questions or for more information.</p>\n\n<p data-end="1180" data-is-last-node="" data-is-only-node="" data-start="1088">Come enjoy great food\, fun activities\, and support an important cause in our community! &#127858\;&#10084\;&#65039\;</p>\n
LOCATION:
UID:e.1184.37001
SEQUENCE:3
DTSTAMP:20260422T100829Z
URL:https://scms.saukprairie.com/events/details/soup-chili-cookoff-37001
END:VEVENT

END:VCALENDAR
