BEGIN:VCALENDAR
VERSION:2.0
PRODID:-//ChamberMaster//Event Calendar 2.0//EN
METHOD:PUBLISH
X-PUBLISHED-TTL:P3D
REFRESH-INTERVAL:P3D
CALSCALE:GREGORIAN
BEGIN:VEVENT
DTSTART:20260222T210000Z
DTEND:20260223T000000Z
X-MICROSOFT-CDO-ALLDAYEVENT:FALSE
SUMMARY:Shop\, Sip & Learn: The Menopause Event You'll Actually Enjoy
DESCRIPTION:Shop\, Sip & Learn: The Menopause Event You'll Actually Enjoy\n\n\n\nBy Midlife Rising\, LLC & Unfolded Clothing and Home Prairie du Sac\, WI\n\n\n\nSunday\, Feb 22 from 3 pm to 6 pm CST\n\n\n\nOverview\n\n\n\n\nReal talk about menopause from a provider who won't dismiss you. Join us for shopping\, drinks\, and the straight answers you deserve.\n\n\n\n\n\nTired of being dismissed\, gaslit\, or told "it's just part of getting older"?\n\nIt's time for your Midlife Rising.\n\nJoin us for an afternoon where shopping meets empowerment\, and menopause gets the revolution it deserves. We're starting at Unfolded because your next chapter should unfold with style\, confidence\, and zero apologies.\n\nHere's the plan:\n\n\n	3:00 PM - Browse at Unfolded boutique in Prairie du Sac\, WI (because you deserve something beautiful)\n	4:00 PM - Walk to Social Club for drinks\, appetizers\, and real talk\n	4:30-6:00 PM - Evidence-based menopause dicsussion\n\n\nWhat you'll actually learn:\n\n\n	Broken down discussion on what happens to our bodies during midlife\n	How to advocate for yourself and demand better care\n	Sexual health during this phase (yes\, we're going there)\n	The truth about sleep\, mood\, metabolism\, and brain fog\n	Your questions answered no topic off limits\n\n\nThis isn't your mother's menopause.\n\nThis is Midlife Rising: a movement for women who refuse to shrink\, suffer in silence\, or settle for "that's just how it is."\n\nCome shop. Come sip. Come learn how to thrive.\n\nTicket: $30 | Limited seats.\n\nLed by Miranda Zuhlke\, PA-C - AASECT-certified Sexual Health Counselor\, Certified Menopause Practitioner\, and a provider who was sick of watching women be dismissed.
X-ALT-DESC;FMTTYPE=text/html:<div data-testid="event-details" font-size:="" helvetica="" neue="">\n<h1 data-testid="event-title">Shop\, Sip &amp\; Learn: The Menopause Event You&#39\;ll Actually Enjoy</h1>\n\n<div>\n<div data-testid="organizer-info">\n<div>By&nbsp\;<a href="https://www.eventbrite.com/e/shop-sip-learn-the-menopause-event-youll-actually-enjoy-tickets-1980604307801#organizer-card">Midlife Rising\, LLC</a>&nbsp\;&amp\;&nbsp\;<a data-testid="event-venue" href="https://www.eventbrite.com/e/shop-sip-learn-the-menopause-event-youll-actually-enjoy-tickets-1980604307801#location">Unfolded Clothing and Home Prairie du Sac\, WI</a></div>\n</div>\n</div>\n\n<div>Sunday\, Feb 22 from 3 pm to 6 pm CST</div>\n</div>\n\n<div data-testid="section-wrapper-overview" font-size:="" helvetica="" neue="">\n<div>Overview</div>\n\n<div>\n<div data-testid="text-content">\n<div>\n<p>Real talk about menopause from a provider who won&#39\;t dismiss you. Join us for shopping\, drinks\, and the straight answers you deserve.</p>\n</div>\n</div>\n\n<div data-testid="text-content">\n<div>\n<p>Tired of being dismissed\, gaslit\, or told &quot\;it&#39\;s just part of getting older&quot\;?</p>\n\n<p>It&#39\;s time for your Midlife Rising.</p>\n\n<p>Join us for an afternoon where shopping meets empowerment\, and menopause gets the revolution it deserves. We&#39\;re starting at Unfolded&mdash\;because your next chapter should unfold with style\, confidence\, and zero apologies.</p>\n\n<p>Here&#39\;s the plan:</p>\n\n<ul>\n	<li>3:00 PM&nbsp\;- Browse at Unfolded boutique in Prairie du Sac\, WI (because you deserve something beautiful)</li>\n	<li>4:00 PM&nbsp\;- Walk to Social Club for drinks\, appetizers\, and real talk</li>\n	<li>4:30-6:00 PM&nbsp\;- Evidence-based menopause dicsussion</li>\n</ul>\n\n<p>What you&#39\;ll actually learn:</p>\n\n<ul>\n	<li>Broken down discussion on what happens to our bodies during midlife</li>\n	<li>How to advocate for yourself and demand better care</li>\n	<li>Sexual health during this phase (yes\, we&#39\;re going there)</li>\n	<li>The truth about sleep\, mood\, metabolism\, and brain fog</li>\n	<li>Your questions answered&mdash\;no topic off limits</li>\n</ul>\n\n<p>This isn&#39\;t your mother&#39\;s menopause.</p>\n\n<p>This is Midlife Rising: a movement for women who refuse to shrink\, suffer in silence\, or settle for &quot\;that&#39\;s just how it is.&quot\;</p>\n\n<p>Come shop. Come sip. Come learn how to thrive.</p>\n\n<p><u><strong><a href="https://www.eventbrite.com/e/shop-sip-learn-the-menopause-event-youll-actually-enjoy-tickets-1980604307801">Ticket</a></strong></u>:&nbsp\;$30 |&nbsp\;Limited seats.</p>\n\n<p>Led by Miranda Zuhlke\, PA-C&nbsp\;- AASECT-certified Sexual Health Counselor\, Certified Menopause Practitioner\, and a provider who was sick of watching women be dismissed.</p>\n</div>\n</div>\n</div>\n</div>\n
LOCATION:
UID:e.1184.36986
SEQUENCE:3
DTSTAMP:20260422T101103Z
URL:https://scms.saukprairie.com/events/details/shop-sip-learn-the-menopause-event-you-ll-actually-enjoy-36986
END:VEVENT

END:VCALENDAR
