BEGIN:VCALENDAR
VERSION:2.0
PRODID:-//ChamberMaster//Event Calendar 2.0//EN
METHOD:PUBLISH
X-PUBLISHED-TTL:P3D
REFRESH-INTERVAL:P3D
CALSCALE:GREGORIAN
BEGIN:VEVENT
DTSTART;VALUE=DATE:20260617
DTEND;VALUE=DATE:20260618
TRANSP:TRANSPARENT
X-MICROSOFT-CDO-ALLDAYEVENT:TRUE
SUMMARY:Sauk Prairie Healthcare Foundation 33rd Annual Golf Outing
DESCRIPTION:Construction Challenge\n\nA Golf Outing to Build Our Future\n\nJOIN US FOR THE 33RD ANNUAL GOLF OUTING\n\nA Golf Outing to Build Our Future   June 17\, 2026 (Rain Date: June 24)\n\nLake Wisconsin Country Club\n\nAFTERNOON ROUND (18 HOLES)\n\n$175 PER GOLFER\n\n9:30am Registration Opens\n\n10:00am Lunch\n\n11:00am Shotgun Start\n\n4:00-6:30pm Dinner\n\nScramble-style tournament with games\,\n\nsnacks & drinks. Includes grab-n-go\n\nbreakfast\, lunch\, golf\, dinner.\n\n\n\nDinner in the clubhouse followed by awards ceremony.\n\n\n\nClick here to register.\n\nClick here for dinner only.
X-ALT-DESC;FMTTYPE=text/html:<h1 role="presentation">Construction Challenge</h1>\n\n<h1 role="presentation">A Golf Outing to Build Our Future</h1>\n\n<p style="box-sizing: border-box\; margin: 0px 0px 10px\; font-family: &quot\;Open Sans&quot\;\, arial\; font-size: 14px\;">JOIN US FOR THE 33RD ANNUAL GOLF OUTING<br style="box-sizing: border-box\;" />\nA Golf Outing to Build Our Future &bull\; June 17\, 2026 (Rain Date: June 24)</p>\n\n<p style="box-sizing: border-box\; margin: 0px 0px 10px\; font-family: &quot\;Open Sans&quot\;\, arial\; font-size: 14px\;">Lake Wisconsin Country Club</p>\n\n<p style="box-sizing: border-box\; margin: 0px 0px 10px\; font-family: &quot\;Open Sans&quot\;\, arial\; font-size: 14px\;">AFTERNOON ROUND (18 HOLES)<br style="box-sizing: border-box\;" />\n$175 PER GOLFER<br style="box-sizing: border-box\;" />\n9:30am Registration Opens<br style="box-sizing: border-box\;" />\n10:00am Lunch<br style="box-sizing: border-box\;" />\n11:00am Shotgun Start<br style="box-sizing: border-box\;" />\n4:00-6:30pm Dinner<br style="box-sizing: border-box\;" />\nScramble-style tournament with games\,<br style="box-sizing: border-box\;" />\nsnacks &amp\; drinks. Includes grab-n-go<br style="box-sizing: border-box\;" />\nbreakfast\, lunch\, golf\, dinner.<br style="box-sizing: border-box\;" />\n<br />\nDinner in the clubhouse followed by awards ceremony.<br />\n<br />\nClick <strong><a href="https://wl.donorperfect.net/weblink/weblink.aspx?name=E360918&amp\;id=14">here </a></strong>to register.<br />\nClick <u><strong><a href="https://wl.donorperfect.net/weblink/weblink.aspx?name=E360918&amp\;id=13">here </a></strong></u>for dinner only.</p>\n
LOCATION:Lake WI Country Club
UID:e.1184.37138
SEQUENCE:3
DTSTAMP:20260422T095756Z
URL:https://scms.saukprairie.com/events/details/sauk-prairie-healthcare-foundation-33rd-annual-golf-outing-37138
END:VEVENT

END:VCALENDAR
