BEGIN:VCALENDAR
VERSION:2.0
PRODID:-//ChamberMaster//Event Calendar 2.0//EN
METHOD:PUBLISH
X-PUBLISHED-TTL:P3D
REFRESH-INTERVAL:P3D
CALSCALE:GREGORIAN
BEGIN:VEVENT
DTSTART;VALUE=DATE:20260514
DTEND;VALUE=DATE:20260517
TRANSP:TRANSPARENT
X-MICROSOFT-CDO-ALLDAYEVENT:TRUE
SUMMARY:Sauk Prairie Garage SALE Days
DESCRIPTION:Sauk Prairie Garage Sale Days are back!    \n\n\n\nMark your calendars for May 14 16\, 2026\, and enjoy three days of community-wide garage sales throughout Sauk Prairie.\n\nResidents\, businesses\, and bargain hunters alike are invited to take part whether you're hosting a sale or shopping for great finds. Listings and maps will be shared with the community closer to the event to help shoppers plan their routes.\n\nWant to host a garage sale?\n\nSign up to have your sale included in the official listings.\n\n  Sign up here: https://forms.gle/HzAiwGGjHL8tGfZp\n\n\n\n   Deadline to submit: April 20\, 2026\n\nPlease note: entries cannot be edited after submission.\n\nDon't miss this popular community event clean out\, cash in\, and shop local during Sauk Prairie Garage Sale Days!
X-ALT-DESC;FMTTYPE=text/html:<div class="kvgmc6g5 cxmmr5t8 oygrvhab hcukyx3x c1et5uql" segoe="" style="overflow-wrap: break-word\; margin: 0px\; font-family: " ui="">\n<p data-end="315" data-start="142"><strong>Sauk Prairie Garage Sale Days are back!</strong> &#127969\;&#128717\;&#65039\;<br />\n<br data-end="194" data-start="191" />\nMark your calendars for May 14&ndash\;16\, 2026\, and enjoy three days of community-wide garage sales throughout Sauk Prairie.</p>\n\n<p data-end="557" data-start="317">Residents\, businesses\, and bargain hunters alike are invited to take part&mdash\;whether you&rsquo\;re hosting a sale or shopping for great finds. Listings and maps will be shared with the community closer to the event to help shoppers plan their routes.</p>\n\n<h3 data-end="590" data-start="559">Want to host a garage sale?</h3>\n\n<p data-end="813" data-start="591">Sign up to have your sale included in the official listings.<br data-end="654" data-start="651" />\n&#128073\; Sign up here: <a data-end="710" data-start="675" href="https://forms.gle/HzAiwGGjHL8tGfZp6" rel="noopener" target="_new">https://forms.gle/HzAiwGGjHL8tGfZp</a></p>\n\n<p data-end="813" data-start="591"><br data-end="713" data-start="710" />\n&#128467\;&#65039\; Deadline to submit: April 20\, 2026<br data-end="758" data-start="755" />\nPlease note: entries cannot be edited after submission.</p>\n\n<p data-end="927" data-start="815">Don&rsquo\;t miss this popular community event&mdash\;clean out\, cash in\, and shop local during Sauk Prairie Garage Sale Days!</p>\n&nbsp\;\n\n<div>\n<div>\n<div style="box-sizing: border-box\; color: rgb(68\, 68\, 68)\; font-family: Arial\, Helvetica\, sans-serif\; font-size: 14px\;">\n<div style="box-sizing: border-box\;">\n<div style="box-sizing: border-box\;">\n<div style="box-sizing: border-box\;">\n<div style="box-sizing: border-box\;">\n<div style="box-sizing: border-box\;">\n<div style="box-sizing: border-box\;">\n<div style="box-sizing: border-box\;">\n<div style="box-sizing: border-box\;">\n<div style="box-sizing: border-box\;">\n<div style="box-sizing: border-box\;">\n<div style="box-sizing: border-box\;">\n<div style="box-sizing: border-box\;">\n<div style="box-sizing: border-box\;">\n<div style="box-sizing: border-box\;">\n<div style="box-sizing: border-box\;">\n<div style="box-sizing: border-box\;">\n<div style="box-sizing: border-box\;"><br />\n&nbsp\;</div>\n</div>\n</div>\n</div>\n</div>\n</div>\n</div>\n</div>\n</div>\n</div>\n</div>\n</div>\n</div>\n</div>\n</div>\n</div>\n</div>\n</div>\n</div>\n</div>\n</div>\n
LOCATION:Sauk Prairie Area
UID:e.1184.36945
SEQUENCE:3
DTSTAMP:20260422T080026Z
URL:https://scms.saukprairie.com/events/details/sauk-prairie-garage-sale-days-36945
END:VEVENT

END:VCALENDAR
