BEGIN:VCALENDAR
VERSION:2.0
PRODID:-//ChamberMaster//Event Calendar 2.0//EN
METHOD:PUBLISH
X-PUBLISHED-TTL:P3D
REFRESH-INTERVAL:P3D
CALSCALE:GREGORIAN
BEGIN:VEVENT
DTSTART:20260530T210000Z
DTEND:20260531T040000Z
X-MICROSOFT-CDO-ALLDAYEVENT:FALSE
SUMMARY:Sauk Prairie FFA Alumni Tractor Pull
DESCRIPTION:Spring Fling Tractor Pull\n\nGet ready for an evening of horsepower\, excitement\, and community fun at the Sauk Prairie FFA Alumni Spring Fling Tractor Pull!\n\nJoin us on Saturday\, May 30 at 4:00 PM at SP FFA Alumni Park (998 15th St.\, Prairie du Sac) for an action-packed event featuring the Badger State Tractor Pullers. Watch as powerful tractors and trucks compete across multiple classes\, including Limited Pro Tractor\, Light Pro\, Super Stock\, and 2WD Truck classes.\n\nBring the whole family and enjoy a great night outdoors with:\n\n\n	High-energy tractor pull competition\n	A variety of classes and vehicles\n	Affordable\, family-friendly admission\n	Live music by West on 12 starting around 8:00 PM\n\n\nAdmission:\n\n\n	Adults: $15\n	Ages 6 18: $10\n	5 & under: Free\n\n\nWhether you're a longtime fan or new to the sport\, the Spring Fling Tractor Pull is a can't-miss kickoff to summer in Sauk Prairie.
X-ALT-DESC;FMTTYPE=text/html:<div data-halign="center" data-hspacer="no_spacer" font-size:="" id="ultimate-heading-512066a94c90abb39" roboto="">\n<div data-responsive-json-new="{" data-ultimate-target=".uvc-heading.ultimate-heading-512066a94c90abb39 h2">\n<div color:="" data-olk-copy-source="MessageBody" font-feature-settings:="" font-kerning:="" font-optical-sizing:="" font-size-adjust:="" font-variation-settings:="" helvetica="" margin:="" padding:="" segoe="" ui="" vertical-align:="" web="" west="">\n<h2 data-end="125" data-section-id="18ujjrq" data-start="97">Spring Fling Tractor Pull</h2>\n\n<p data-end="258" data-start="127">Get ready for an evening of horsepower\, excitement\, and community fun at the <strong data-end="257" data-start="204">Sauk Prairie FFA Alumni Spring Fling Tractor Pull</strong>!</p>\n\n<p data-end="583" data-start="260">Join us on <strong data-end="302" data-start="271">Saturday\, May 30 at 4:00 PM</strong> at <strong data-end="359" data-start="306">SP FFA Alumni Park (998 15th St.\, Prairie du Sac)</strong> for an action-packed event featuring the <strong data-end="433" data-start="401">Badger State Tractor Pullers</strong>. Watch as powerful tractors and trucks compete across multiple classes\, including Limited Pro Tractor\, Light Pro\, Super Stock\, and 2WD Truck classes.</p>\n\n<p data-end="646" data-start="585">Bring the whole family and enjoy a great night outdoors with:</p>\n\n<ul data-end="822" data-start="647">\n	<li data-end="687" data-section-id="1wp4m8k" data-start="647">High-energy tractor pull competition</li>\n	<li data-end="725" data-section-id="16kxzvg" data-start="688">A variety of classes and vehicles</li>\n	<li data-end="767" data-section-id="17ysxoj" data-start="726">Affordable\, family-friendly admission</li>\n	<li data-end="822" data-section-id="1ytlf1r" data-start="768"><strong data-end="822" data-start="770">Live music by West on 12 starting around 8:00 PM</strong></li>\n</ul>\n\n<h3 data-end="838" data-section-id="c18bjp" data-start="824">Admission:</h3>\n\n<ul data-end="893" data-start="839">\n	<li data-end="854" data-section-id="123pu95" data-start="839">Adults: $15</li>\n	<li data-end="873" data-section-id="eus19n" data-start="855">Ages 6&ndash\;18: $10</li>\n	<li data-end="893" data-section-id="pi6md9" data-start="874">5 &amp\; under: Free</li>\n</ul>\n\n<p data-end="1026" data-start="895">Whether you&#39\;re a longtime fan or new to the sport\, the Spring Fling Tractor Pull is a can&rsquo\;t-miss kickoff to summer in Sauk Prairie.</p>\n</div>\n</div>\n</div>\n
LOCATION:
UID:e.1184.37593
SEQUENCE:3
DTSTAMP:20260422T075110Z
URL:https://scms.saukprairie.com/events/details/sauk-prairie-ffa-alumni-tractor-pull-37593
END:VEVENT

END:VCALENDAR
