BEGIN:VCALENDAR
VERSION:2.0
PRODID:-//ChamberMaster//Event Calendar 2.0//EN
METHOD:PUBLISH
X-PUBLISHED-TTL:P3D
REFRESH-INTERVAL:P3D
CALSCALE:GREGORIAN
BEGIN:VEVENT
DTSTART:20260413T133000Z
DTEND:20260413T153000Z
X-MICROSOFT-CDO-ALLDAYEVENT:FALSE
SUMMARY:Retail & Beyond Roundtable: Safety Conversations for Local Businesses
DESCRIPTION:Retail Roundtable & Beyond: Safety Conversations for Local Businesses\n\nJoin us for our next Retail Roundtable & Beyond\, featuring Police Chief Josh Sherman from the Sauk Prairie Police Department for an open\, informal conversation focused on retail safety and awareness.\n\nMany local retailers especially those working alone or without loss prevention support face real-world challenges such as theft\, suspicious behavior\, and uncertainty about how to respond in difficult situations. This session will provide a space to talk through those concerns\, hear practical guidance\, and ask questions in a supportive\, no-judgment setting.\n\nPolice Chief Sherman will share insight on what business owners can realistically do in various scenarios\, when to involve law enforcement\, and how to prioritize personal safety while protecting your business.\n\nThis roundtable is designed to be conversational and collaborative\, with plenty of time for discussion and Q&A.\n\nWhether you've experienced issues firsthand or simply want to be better prepared\, this session is a valuable opportunity to learn\, connect\, and feel more confident.
X-ALT-DESC;FMTTYPE=text/html:<p data-end="183" data-start="110"><strong data-end="183" data-start="110">Retail Roundtable &amp\; Beyond: Safety Conversations for Local Businesses</strong></p>\n\n<p data-end="396" data-start="185">Join us for our next <strong data-end="236" data-start="206">Retail Roundtable &amp\; Beyond</strong>\, featuring <strong data-end="317" data-start="248">Police Chief Josh Sherman from the Sauk Prairie Police Department</strong> for an open\, informal conversation focused on <strong data-end="395" data-start="364">retail safety and awareness</strong>.</p>\n\n<p data-end="760" data-start="398">Many local retailers&mdash\;especially those working alone or without loss prevention support&mdash\;face real-world challenges such as theft\, suspicious behavior\, and uncertainty about how to respond in difficult situations. This session will provide a space to talk through those concerns\, hear <strong data-end="703" data-start="681">practical guidance</strong>\, and ask questions in a supportive\, no-judgment setting.</p>\n\n<p data-end="971" data-start="762">Police Chief Sherman will share insight on what business owners can realistically do in various scenarios\, when to involve law enforcement\, and how to prioritize personal safety while protecting your business.</p>\n\n<p data-end="1084" data-start="973">This roundtable is designed to be conversational and collaborative\, with plenty of time for discussion and Q&amp\;A.</p>\n\n<p data-end="1250" data-start="1086">Whether you&rsquo\;ve experienced issues firsthand or simply want to be better prepared\, this session is a valuable opportunity to learn\, connect\, and feel more confident.</p>\n
LOCATION:Sauk Prairie Riverway Welcome Center
UID:e.1184.36076
SEQUENCE:3
DTSTAMP:20260422T070111Z
URL:https://scms.saukprairie.com/events/details/retail-beyond-roundtable-safety-conversations-for-local-businesses-36076
END:VEVENT

END:VCALENDAR
