BEGIN:VCALENDAR
VERSION:2.0
PRODID:-//ChamberMaster//Event Calendar 2.0//EN
METHOD:PUBLISH
X-PUBLISHED-TTL:P3D
REFRESH-INTERVAL:P3D
CALSCALE:GREGORIAN
BEGIN:VEVENT
DTSTART:20260416T233000Z
DTEND:20260417T003000Z
X-MICROSOFT-CDO-ALLDAYEVENT:FALSE
SUMMARY:Remembrance and Hope Service
DESCRIPTION:Remembrance and Hope Service\n\nJoin us for a meaningful Remembrance and Hope Service\, a time set aside to honor loved ones\, reflect on cherished memories\, and find comfort in community. Through a peaceful candlelight gathering\, we will come together to share a moment of reflection\, remembrance\, and hope.\n\nThis special service is offered through a partnership between Maplewood and St. Croix Hospice and is open to anyone who would like a supportive space to remember those they have lost.\n\nDate: Thursday\, April 16\, 2026\n\nTime: 6:30 PM\n\nLocation: 245 Sycamore St.\, Sauk City\, WI 53583\n\nAll are welcome to attend as we gather in remembrance and support one another.
X-ALT-DESC;FMTTYPE=text/html:<h3 data-end="135" data-start="101">Remembrance and Hope Service</h3>\n\n<p data-end="414" data-start="136">Join us for a meaningful <strong data-end="193" data-start="161">Remembrance and Hope Service</strong>\, a time set aside to honor loved ones\, reflect on cherished memories\, and find comfort in community. Through a peaceful candlelight gathering\, we will come together to share a moment of reflection\, remembrance\, and hope.</p>\n\n<p data-end="603" data-start="416">This special service is offered through a partnership between <strong data-end="513" data-start="478">Maplewood and St. Croix Hospice</strong> and is open to anyone who would like a supportive space to remember those they have lost.</p>\n\n<p data-end="715" data-start="605"><strong data-end="614" data-start="605">Date:</strong> Thursday\, April 16\, 2026<br data-end="642" data-start="639" />\n<strong data-end="651" data-start="642">Time:</strong> 6:30 PM<br data-end="662" data-start="659" />\n<strong data-end="675" data-start="662">Location:</strong> 245 Sycamore St.\, Sauk City\, WI 53583</p>\n\n<p data-end="795" data-start="717">All are welcome to attend as we gather in remembrance and support one another.</p>\n
LOCATION:Maplewood Sauk Prairie
UID:e.1184.37049
SEQUENCE:3
DTSTAMP:20260422T065350Z
URL:https://scms.saukprairie.com/events/details/remembrance-and-hope-service-37049
END:VEVENT

END:VCALENDAR
