BEGIN:VCALENDAR
VERSION:2.0
PRODID:-//ChamberMaster//Event Calendar 2.0//EN
METHOD:PUBLISH
X-PUBLISHED-TTL:P3D
REFRESH-INTERVAL:P3D
CALSCALE:GREGORIAN
BEGIN:VEVENT
DTSTART:20260501T233000Z
DTEND:20260502T013000Z
X-MICROSOFT-CDO-ALLDAYEVENT:FALSE
SUMMARY:Paint Your Partner
DESCRIPTION:Paint Your Partner\n\n\nFri\, May 01 | J Vod Creative LLC\n\n\n\nPerfect for a date night or friend night! Sit across from your partner and paint their likeness\, with guidance from Jess. At the end of the night you'll reveal your masterpieces to each other! Drinks and food purchased separately.
X-ALT-DESC;FMTTYPE=text/html:<h1 aria-hidden="false" data-hook="event-title" tabindex="-1">Paint Your Partner</h1>\n\n<div data-hook="short-date-location">\n<p data-hook="event-short-date">Fri\, May 01 | J Vod Creative LLC</p>\n</div>\n\n<div>\n<p data-hook="event-description">Perfect for a date night or friend night! Sit across from your partner and paint their likeness\, with guidance from Jess. At the end of the night you&#39\;ll reveal your masterpieces to each other! Drinks and food purchased separately.</p>\n</div>\n
LOCATION:J Vod Creative Studio
UID:e.1184.37137
SEQUENCE:3
DTSTAMP:20260422T075022Z
URL:https://scms.saukprairie.com/events/details/paint-your-partner-37137
END:VEVENT

END:VCALENDAR
