BEGIN:VCALENDAR
VERSION:2.0
PRODID:-//ChamberMaster//Event Calendar 2.0//EN
METHOD:PUBLISH
X-PUBLISHED-TTL:P3D
REFRESH-INTERVAL:P3D
CALSCALE:GREGORIAN
BEGIN:VEVENT
DTSTART:20260213T160000Z
DTEND:20260213T173000Z
X-MICROSOFT-CDO-ALLDAYEVENT:FALSE
SUMMARY:No School Day: Share the Love of Valentine's Day
DESCRIPTION:Stop by the library and make Valentine's Day cards! Celebrate kindness by creating cards for seniors at Maplewood Village and make cards for your loved ones too! Geared for grades K-5th. No registration required.
X-ALT-DESC;FMTTYPE=text/html:Stop by the library and make Valentine&rsquo\;s Day cards! Celebrate kindness by creating cards for seniors at Maplewood Village and make cards for your loved ones too! Geared for grades K-5th. No registration required.
LOCATION:George Culver Community Library - Sauk City
UID:e.1184.36940
SEQUENCE:3
DTSTAMP:20260422T101235Z
URL:https://scms.saukprairie.com/events/details/no-school-day-share-the-love-of-valentine-s-day-36940
END:VEVENT

END:VCALENDAR
