BEGIN:VCALENDAR
VERSION:2.0
PRODID:-//ChamberMaster//Event Calendar 2.0//EN
METHOD:PUBLISH
X-PUBLISHED-TTL:P3D
REFRESH-INTERVAL:P3D
CALSCALE:GREGORIAN
BEGIN:VEVENT
DTSTART:20260221T180000Z
DTEND:20260221T220000Z
X-MICROSOFT-CDO-ALLDAYEVENT:FALSE
SUMMARY:Nail Bar Grand Opening @ Pet Supplies Plus
DESCRIPTION:Pet Supplies Plus Nail Bar Grand Opening!  \n\nPet Supplies Plus is excited to celebrate the Grand Opening of their Nail Bar on Friday\, February 21\, from 12:00 4:00 PM!\n\nTo celebrate\, stop in for discounted nail trims for just $9 and join the fun during their Love Your Pet Party from 12:00 2:00 PM. Pets receiving a paw-dicure during the party will also receive a free bandana (while supplies last).\n\nIt's a great chance to treat your pet\, check out the new Nail Bar\, and enjoy a little extra love for your four-legged friends. No better way to say "we love our pets" than a fresh trim and some tail wags!\n\n   While supplies last.
X-ALT-DESC;FMTTYPE=text/html:<p data-end="176" data-start="123">&#128062\; <strong data-end="171" data-start="126">Pet Supplies Plus Nail Bar Grand Opening!</strong> &#128062\;</p>\n\n<p data-end="307" data-start="178">Pet Supplies Plus is excited to celebrate the <strong data-end="259" data-start="224">Grand Opening of their Nail Bar</strong> on <strong data-end="306" data-start="263">Friday\, February 21\, from 12:00&ndash\;4:00 PM</strong>!</p>\n\n<p data-end="551" data-start="309">To celebrate\, stop in for <strong data-end="372" data-start="335">discounted nail trims for just $9</strong> and join the fun during their <strong data-end="445" data-start="403">Love Your Pet Party from 12:00&ndash\;2:00 PM</strong>. Pets receiving a paw-dicure during the party will also receive a <strong data-end="528" data-start="512">free bandana</strong> (while supplies last).</p>\n\n<p data-end="757" data-start="553">It&rsquo\;s a great chance to treat your pet\, check out the new Nail Bar\, and enjoy a little extra love for your four-legged friends. No better way to say &ldquo\;we love our pets&rdquo\; than a fresh trim and some tail wags!</p>\n\n<p data-end="786" data-start="759">&#128054\;&#128049\; <em data-end="786" data-start="764">While supplies last.</em></p>\n
LOCATION:
UID:e.1184.36988
SEQUENCE:3
DTSTAMP:20260422T101101Z
URL:https://scms.saukprairie.com/events/details/nail-bar-grand-opening-pet-supplies-plus-36988
END:VEVENT

END:VCALENDAR
