BEGIN:VCALENDAR
VERSION:2.0
PRODID:-//ChamberMaster//Event Calendar 2.0//EN
METHOD:PUBLISH
X-PUBLISHED-TTL:P3D
REFRESH-INTERVAL:P3D
CALSCALE:GREGORIAN
BEGIN:VEVENT
DTSTART;VALUE=DATE:20260613
DTEND;VALUE=DATE:20260614
TRANSP:TRANSPARENT
X-MICROSOFT-CDO-ALLDAYEVENT:TRUE
SUMMARY:Merrimac Community Festival
DESCRIPTION:Join Us for the 2026 Merrimac Community Festival\n\n  Merrimac Memorial Park   145 Front St\, Merrimac\, WI\n\n  Saturday\, June 13 \n\nThe heart of summer is calling\, and Merrimac is answering with a full day of family-friendly fun\, food\, and festivities. This year's festival is packed with fresh energy and local charm. Here's what you can look forward to:\n\n  Live ski show by the Mad-City Ski Team\n\n  Amateur and semi-pro sports contests\n\n  Classic car show\n\n  Bar trivia\n\n  Kids games and activities\n\n  Live music throughout the day\n\n  Local food and beverage vendors\n\nWhere's Merrimac?\n\nLocated on the eastern edge of Sauk County\, Merrimac is just:\n\n\n	\n	7 miles northwest of Lodi (across the ferry)\n	\n	\n	11 miles south of Baraboo\n	\n	\n	11 miles north of Prairie du Sac\n	\n	\n	15 miles southwest of Portage\n	\n\n\nStay tuned for the full schedule and more exciting updates!
X-ALT-DESC;FMTTYPE=text/html:<p data-end="293" data-start="111"><strong data-end="163" data-start="111">Join Us for the 2026&nbsp\;Merrimac Community Festival</strong><br data-end="166" data-start="163" />\n&#128205\; <em data-end="222" data-start="169">Merrimac Memorial Park &ndash\; 145 Front St\, Merrimac\, WI</em><br data-end="225" data-start="222" />\n&#128467\; <em data-end="247" data-start="228">Saturday\, June 13</em>&nbsp\;</p>\n\n<p data-end="518" data-start="295">The heart of summer is calling\, and Merrimac is answering with a full day of family-friendly fun\, food\, and festivities. This year&rsquo\;s festival is packed with fresh energy and local charm. Here&rsquo\;s what you can look forward to:</p>\n\n<p data-end="743" data-start="520">&bull\; Live ski show by the <strong data-end="564" data-start="543">Mad-City Ski Team</strong><br data-end="567" data-start="564" />\n&bull\; Amateur and semi-pro sports contests<br data-end="608" data-start="605" />\n&bull\; Classic car show<br data-end="629" data-start="626" />\n&bull\; Bar trivia<br data-end="644" data-start="641" />\n&bull\; Kids games and activities<br data-end="674" data-start="671" />\n&bull\; Live music throughout the day<br data-end="708" data-start="705" />\n&bull\; Local food and beverage vendors</p>\n\n<p data-end="832" data-start="745"><strong data-end="766" data-start="745">Where&rsquo\;s Merrimac?</strong><br data-end="769" data-start="766" />\nLocated on the eastern edge of Sauk County\, Merrimac is just:</p>\n\n<ul data-end="982" data-start="833">\n	<li data-end="881" data-start="833">\n	<p data-end="881" data-start="835">7 miles northwest of Lodi (across the ferry)</p>\n	</li>\n	<li data-end="911" data-start="882">\n	<p data-end="911" data-start="884">11 miles south of Baraboo</p>\n	</li>\n	<li data-end="948" data-start="912">\n	<p data-end="948" data-start="914">11 miles north of Prairie du Sac</p>\n	</li>\n	<li data-end="982" data-start="949">\n	<p data-end="982" data-start="951">15 miles southwest of Portage</p>\n	</li>\n</ul>\n\n<p data-end="1196" data-start="1135">Stay tuned for the full schedule and more exciting updates!</p>\n
LOCATION:Merrimac Memorial Park
UID:e.1184.37161
SEQUENCE:3
DTSTAMP:20260422T095707Z
URL:https://scms.saukprairie.com/events/details/merrimac-community-festival-37161
END:VEVENT

END:VCALENDAR
