BEGIN:VCALENDAR
VERSION:2.0
PRODID:-//ChamberMaster//Event Calendar 2.0//EN
METHOD:PUBLISH
X-PUBLISHED-TTL:P3D
REFRESH-INTERVAL:P3D
CALSCALE:GREGORIAN
BEGIN:VEVENT
DTSTART:20260425T140000Z
DTEND:20260425T200000Z
X-MICROSOFT-CDO-ALLDAYEVENT:FALSE
SUMMARY:Local Yarn Store Day
DESCRIPTION:Yarn lovers\, this one's for you!   \n\nCelebrate creativity and community at Local Yarn Store Day at Flaxen Fleece! Spend the day exploring beautiful fibers\, exclusive finds\, and special deals made just for yarn enthusiasts.\n\nBrowse limited-edition hand-dyed yarns\, check out exclusive project bags\, and discover new spring and summer yarn collections. Take advantage of day-of specials\, including discounts\, double loyalty points\, and a free gift with qualifying purchases.\n\nBring along a completed project made with Flaxen Fleece yarn to join the fun enter prize drawings and snap a photo with your creation!\n\n  Saturday\, April 25th\n\n  9:00 AM   3:00 PM\n\n  Flaxen Fleece\n\nCome celebrate all things yarn you won't want to miss it!
X-ALT-DESC;FMTTYPE=text/html:<p data-end="102" data-start="60">&#129526\;&#10024\; Yarn lovers\, this one&rsquo\;s for you! &#10024\;&#129526\;</p>\n\n<p data-end="293" data-start="104">Celebrate creativity and community at <strong data-end="166" data-start="142">Local Yarn Store Day</strong> at Flaxen Fleece! Spend the day exploring beautiful fibers\, exclusive finds\, and special deals made just for yarn enthusiasts.</p>\n\n<p data-end="555" data-start="295">Browse <strong data-end="337" data-start="302">limited-edition hand-dyed yarns</strong>\, check out <strong data-end="375" data-start="349">exclusive project bags</strong>\, and discover <strong data-end="432" data-start="390">new spring and summer yarn collections</strong>. Take advantage of day-of specials\, including discounts\, double loyalty points\, and a free gift with qualifying purchases.</p>\n\n<p data-end="691" data-start="557">Bring along a completed project made with Flaxen Fleece yarn to join the fun&mdash\;enter prize drawings and snap a photo with your creation!</p>\n\n<p data-end="759" data-start="693">&#128197\; Saturday\, April 25th<br data-end="719" data-start="716" />\n&#9200\; 9:00 AM &ndash\; 3:00 PM<br data-end="741" data-start="738" />\n&#128205\; Flaxen Fleece</p>\n\n<p data-end="821" data-is-last-node="" data-is-only-node="" data-start="761">Come celebrate all things yarn&mdash\;you won&rsquo\;t want to miss it! &#129525\;</p>\n
LOCATION:Flaxen Fleece
UID:e.1184.37179
SEQUENCE:3
DTSTAMP:20260422T064746Z
URL:https://scms.saukprairie.com/events/details/local-yarn-store-day-37179
END:VEVENT

END:VCALENDAR
