BEGIN:VCALENDAR
VERSION:2.0
PRODID:-//ChamberMaster//Event Calendar 2.0//EN
METHOD:PUBLISH
X-PUBLISHED-TTL:P3D
REFRESH-INTERVAL:P3D
CALSCALE:GREGORIAN
BEGIN:VEVENT
DTSTART:20260926T180000Z
DTEND:20260927T020000Z
X-MICROSOFT-CDO-ALLDAYEVENT:FALSE
SUMMARY:KINDFEST
DESCRIPTION:Join us for Kind Fest\, a community celebration dedicated to kindness and mental health. Hosted by Be Kind SP33\, this uplifting event brings people together for a day of connection\, support\, and fun for all ages.\n\nEnjoy a variety of activities including raffles\, food trucks\, a free kid zone\, and a bags tournament. Take part in bingo in the afternoon\, explore valuable mental health resources\, and wrap up the day with live music from the Retro Specz Band.\n\n  Saturday\, September 26th\n\n  Culver Park\n\n  1:00 9:00 PM\n\nCome out\, connect with your community\, and celebrate the power of kindness!
X-ALT-DESC;FMTTYPE=text/html:<p data-end="270" data-start="55">Join us for <strong data-end="80" data-start="67">Kind Fest</strong>\, a community celebration dedicated to kindness and mental health. Hosted by Be Kind SP33\, this uplifting event brings people together for a day of connection\, support\, and fun for all ages.</p>\n\n<p data-end="515" data-start="272">Enjoy a variety of activities including raffles\, food trucks\, a free kid zone\, and a bags tournament. Take part in bingo in the afternoon\, explore valuable mental health resources\, and wrap up the day with live music from the Retro Specz Band.</p>\n\n<p data-end="591" data-start="517">&#128197\; <strong data-end="548" data-start="520">Saturday\, September 26th</strong><br data-end="551" data-start="548" />\n&#128205\; <strong data-end="569" data-start="554">Culver Park</strong><br data-end="572" data-start="569" />\n&#128336\; <strong data-end="591" data-start="575">1:00&ndash\;9:00 PM</strong></p>\n\n<p data-end="668" data-is-last-node="" data-is-only-node="" data-start="593">Come out\, connect with your community\, and celebrate the power of kindness!</p>\n
LOCATION:Culver Community Park
UID:e.1184.37143
SEQUENCE:3
DTSTAMP:20260422T145226Z
URL:https://scms.saukprairie.com/events/details/kindfest-37143
END:VEVENT

END:VCALENDAR
