BEGIN:VCALENDAR
VERSION:2.0
PRODID:-//ChamberMaster//Event Calendar 2.0//EN
METHOD:PUBLISH
X-PUBLISHED-TTL:P3D
REFRESH-INTERVAL:P3D
CALSCALE:GREGORIAN
BEGIN:VEVENT
DTSTART:20260328T140000Z
DTEND:20260328T210000Z
X-MICROSOFT-CDO-ALLDAYEVENT:FALSE
SUMMARY:High Drama: Colored Pencil on Dark Paper with Rhonda Nass
DESCRIPTION:High Drama: Colored Pencil on Dark Paper with Rhonda Nass\n\n590 Water St\, Prairie du Sac\, WI 53578\n\nSaturday-Sunday\, March 28-29\, 2026 | 9a-4p both days | Deadline to register: March 23\, 2026\n\n$250 + $10 materials fee\n\nMaterials Included: Multiple color handouts\, prepared exercise sheet\, tracing and transfer paper\, one sheet of fine art paper which will be for your final drawing\, rag\, feather\, white water soluble colored pencil\, and communal supplies.\n\nWhat to bring: A supply list is provided below at the bottom of this page\, but students should make sure to bring an excellent sharpener\, kneaded eraser\, clamp-on or table lamp\, reading glasses if you use them or a magnifying glass\, and photos for source material to work from. If you have other high-quality colored pencils\, bring them.  There will also be additional supplies for sale from the instructor on the day of class\; please bring cash to purchase anything extra.\n\nLevel: Beginner/No prior experience necessary\, but also intermediate friendly.\n\n \n\nAges 18+\n\nCLICK HERE TO REGISTER\n\n \n\n\nThough colored pencil was once thought of as a grade school medium\, professional artists today have chosen it as their preferred medium and are exhibiting in galleries\, museums\, and publishing internationally\, along with illustrating for advertising and magazines. The specific technique you will learn is a layering of pencil applied with light pressure\, creating color intensity and a means to add minute detail. With intense color on a dark background the image (of your choice) punches and acts as a magnet for a viewer. We'll review contemporary pencil artists and what good composition is\, you'll do an exercise sheet with multiple stroke application techniques\, and begin a customized artwork of your own subject in your own composition\, and you'll be able to work at your own pace in class\, finishing the piece on your own beyond the class timeframe.\n\n \n\nInstructor Bio: Nass' drawings and paintings are internationally published (including Biology of Plants by Evert\, Eichhorn\, Raven/W.H. Freeman Publishers\; Today's Botanical Artists/Schiffer Publishing\; Vanishing Circles /Arizona Sonora Desert Museum Press\, Following in the Bartram's Footsteps/American Society of Botanical Artists\, self-published books\, Gifts from the Earth and Scratchings of a Madwoman [www.rnass.com] and more recently through the United Nations Postal Administration who commissioned paintings for stamps highlighting endangered species). Work appears in museum (e.g. Museum of Natural History in Zhejiang\, China)\, corporate and private collections. Nass co-curates\, along with Mary Dickey and Kel Mur\, River Arts on Water Gallery in Prairie du Sac\, Wisconsin.
X-ALT-DESC;FMTTYPE=text/html:<h2><strong>High Drama: Colored Pencil on Dark Paper with Rhonda Nass</strong></h2>\n\n<p><strong>590 Water St\, Prairie du Sac\, WI 53578</strong></p>\n\n<p><strong>Saturday-Sunday\, March 28-29\, 2026 | 9a-4p both days</strong>&nbsp\;| Deadline to register: March 23\, 2026</p>\n\n<p><strong>$250 + $10 materials fee</strong></p>\n\n<p><strong>Materials Included:</strong>&nbsp\;Multiple color handouts\, prepared exercise sheet\, tracing and transfer paper\, one sheet of fine art paper which will be for your final drawing\, rag\, feather\, white water soluble colored pencil\, and communal supplies.</p>\n\n<p><strong>What to bring:&nbsp\;</strong>A supply list is provided below at the bottom of this page\, but students should make sure to bring an excellent sharpener\, kneaded eraser\, clamp-on or table lamp\, reading glasses if you use them or a magnifying glass\, and photos for source material to work from. If you have other high-quality colored pencils\, bring them.&nbsp\; There will also be additional supplies for sale from the instructor on the day of class\; please bring cash to purchase anything extra.</p>\n\n<p><strong>Level:&nbsp\;</strong>Beginner/No prior experience necessary\, but also intermediate friendly.</p>\n\n<p>&nbsp\;</p>\n\n<p><strong>Ages 18+</strong></p>\n\n<div><a href="https://app.arts-people.com/index.php?show=285889" style="padding: 0px\; margin: 0px\; text-decoration-line: none\; color: rgb(50\, 74\, 178) !important\;">CLICK HERE TO REGISTER</a></div>\n\n<div>&nbsp\;</div>\n\n<div>\n<p>Though colored pencil was once thought of as a grade school medium\, professional artists today have chosen it as their preferred medium and are exhibiting in galleries\, museums\, and publishing internationally\, along with illustrating for advertising and magazines. The specific technique you will learn is a layering of pencil applied with light pressure\, creating color intensity and a means to add minute detail. With intense color on a dark background the image (of your choice) punches and acts as a magnet for a viewer. We&rsquo\;ll review contemporary pencil artists and what good composition is\, you&rsquo\;ll do an exercise sheet with multiple stroke application techniques\, and begin a customized artwork of your own subject in your own composition\, and you&rsquo\;ll be able to work at your own pace in class\, finishing the piece on your own beyond the class timeframe.</p>\n\n<p>&nbsp\;</p>\n\n<p><strong>Instructor Bio:</strong>&nbsp\;Nass&rsquo\; drawings and paintings are internationally published (including Biology of Plants by Evert\, Eichhorn\, Raven/W.H. Freeman Publishers\; Today&rsquo\;s Botanical Artists/Schiffer Publishing\; Vanishing Circles /Arizona Sonora Desert Museum Press\, Following in the Bartram&rsquo\;s Footsteps/American Society of Botanical Artists\, self-published books\, Gifts from the Earth and Scratchings of a Madwoman [www.rnass.com] and more recently through the United Nations Postal Administration who commissioned paintings for stamps highlighting endangered species). Work appears in museum (e.g. Museum of Natural History in Zhejiang\, China)\, corporate and private collections. Nass co-curates\, along with Mary Dickey and Kel Mur\, River Arts on Water Gallery in Prairie du Sac\, Wisconsin.</p>\n</div>\n
LOCATION:590 Water St\, Prairie du Sac\, WI 53578
UID:e.1184.37004
SEQUENCE:3
DTSTAMP:20260422T081018Z
URL:https://scms.saukprairie.com/events/details/high-drama-colored-pencil-on-dark-paper-with-rhonda-nass-37004
END:VEVENT

END:VCALENDAR
