BEGIN:VCALENDAR
VERSION:2.0
PRODID:-//ChamberMaster//Event Calendar 2.0//EN
METHOD:PUBLISH
X-PUBLISHED-TTL:P3D
REFRESH-INTERVAL:P3D
CALSCALE:GREGORIAN
BEGIN:VEVENT
DTSTART:20260214T200000Z
DTEND:20260214T220000Z
X-MICROSOFT-CDO-ALLDAYEVENT:FALSE
SUMMARY:Harry Potter Party
DESCRIPTION:C2 Presents a Harry Potter Party \n\nCalling all witches\, wizards\, and muggles! Join us for a magical afternoon at our Harry Potter Party on February 14 from 2 4 PM. Young fans will step into the wizarding world with hands-on fun\, including a wand-making station\, games\, and Hogwarts-inspired desserts.\n\nThe highlight of the afternoon will be our Sorting Hat Ceremony at 2:30 PM\, where participants will discover their Hogwarts house. Costumes are welcome but not required come dressed as your favorite character or just as you are!\n\n  Suggested ages: 6 13\n\n  Cost: $30 per child or $50 for two children\n\n  Adult supervision: One adult per party is requested to attend\n\n  Lattes will be available for purchase\n\nSpace is limited\, so be sure to reserve your spot!\n\n  uncletonyskombucha@gmail.com\n\n  608-460-2929\n\nLet the magic begin!
X-ALT-DESC;FMTTYPE=text/html:<p data-end="187" data-start="143">C2 Presents a Harry Potter Party&nbsp\;</p>\n\n<p data-end="466" data-start="189">Calling all witches\, wizards\, and muggles! Join us for a magical afternoon at our Harry Potter Party on February 14 from 2&ndash\;4 PM. Young fans will step into the wizarding world with hands-on fun\, including a wand-making station\, games\, and Hogwarts-inspired desserts.</p>\n\n<p data-end="700" data-start="468">The highlight of the afternoon will be our Sorting Hat Ceremony at 2:30 PM\, where participants will discover their Hogwarts house. Costumes are welcome but not required&mdash\;come dressed as your favorite character or just as you are!</p>\n\n<p data-end="894" data-start="702">&#10024\; Suggested ages: 6&ndash\;13<br data-end="731" data-start="728" />\n&#10024\; Cost: $30 per child or $50 for two children<br data-end="783" data-start="780" />\n&#10024\; Adult supervision: One adult per party is requested to attend<br data-end="853" data-start="850" />\n&#9749\; Lattes will be available for purchase</p>\n\n<p data-end="1006" data-start="896">Space is limited\, so be sure to reserve your spot!</p>\n\n<p data-end="1006" data-start="896">&#128231\; <a data-end="982" data-start="954" rel="noopener">uncletonyskombucha@gmail.com</a></p>\n\n<p data-end="1006" data-start="896">&#128222\; 608-460-2929</p>\n\n<p data-end="1035" data-start="1008">Let the magic begin! &#129497\;&zwj\;&#9794\;&#65039\;&#10024\;</p>\n
LOCATION:C2 Juicery & Eats
UID:e.1184.36980
SEQUENCE:3
DTSTAMP:20260422T100659Z
URL:https://scms.saukprairie.com/events/details/harry-potter-party-36980
END:VEVENT

END:VCALENDAR
