BEGIN:VCALENDAR
VERSION:2.0
PRODID:-//ChamberMaster//Event Calendar 2.0//EN
METHOD:PUBLISH
X-PUBLISHED-TTL:P3D
REFRESH-INTERVAL:P3D
CALSCALE:GREGORIAN
BEGIN:VEVENT
DTSTART;VALUE=DATE:20260207
DTEND;VALUE=DATE:20260208
TRANSP:TRANSPARENT
X-MICROSOFT-CDO-ALLDAYEVENT:TRUE
SUMMARY:Golf on Ice Charity Tournament
DESCRIPTION:Golf on Ice Charity Tournament    \n\nHosted by Schoepp's Swingin' Wieners Golf Club\n\nBundle up and hit the ice for a one-of-a-kind winter golf experience at Schoepp's Bar on Crystal Lake! This unique charity tournament combines friendly competition\, winter fun\, and a great cause all on the ice.\n\n  Saturday\, February 7\, 2026\n\n  Schoepp's Bar on Crystal Lake\n\nN586 Schoepp Rd\, Sauk City\, WI\n\n  $5 per person\n\n  Registration: 12:00 1:30 PM\n\n   Golf Play: 12:00 3:00 PM\n\n(Scorecards must be turned in by 3:30 PM)\n\nBalls and some clubs will be provided\, or feel free to bring your own.\n\n   Food & Fun Highlights:\n\n\n	\n	Bar opens at 11:30 AM\n	\n	\n	Drink delivery out on the ice\n	\n	\n	Free food while supplies last\n	\n	\n	Live music by James Crockett from 3:00 6:00 PM\n	\n\n\nWhether you're golfing\, cheering\, or just enjoying the winter vibes\, this is a great way to support a good cause and have some fun on the ice. Grab your friends and come join the action!
X-ALT-DESC;FMTTYPE=text/html:<p data-end="195" data-start="100">&#9971\;&#10052\;&#65039\; <strong data-end="138" data-start="104">Golf on Ice Charity Tournament</strong> &#10052\;&#65039\;&#9971\;<br data-end="145" data-start="142" />\nHosted by <strong data-end="195" data-start="155">Schoepp&rsquo\;s Swingin&rsquo\; Wieners Golf Club</strong></p>\n\n<p data-end="411" data-start="197">Bundle up and hit the ice for a one-of-a-kind winter golf experience at <strong data-end="302" data-start="269">Schoepp&rsquo\;s Bar on Crystal Lake</strong>! This unique charity tournament combines friendly competition\, winter fun\, and a great cause&mdash\;all on the ice.</p>\n\n<p data-end="520" data-start="413">&#128197\; <strong data-end="446" data-start="416">Saturday\, February 7\, 2026</strong><br data-end="449" data-start="446" />\n&#128205\; <strong data-end="485" data-start="452">Schoepp&rsquo\;s Bar on Crystal Lake</strong><br data-end="488" data-start="485" />\nN586 Schoepp Rd\, Sauk City\, WI</p>\n\n<p data-end="658" data-start="522">&#128178\; <strong data-end="542" data-start="525">$5 per person</strong><br data-end="545" data-start="542" />\n&#128347\; <strong data-end="565" data-start="548">Registration:</strong> 12:00&ndash\;1:30 PM<br data-end="582" data-start="579" />\n&#127948\;&#65039\; <strong data-end="600" data-start="586">Golf Play:</strong> 12:00&ndash\;3:00 PM<br data-end="617" data-start="614" />\n(Scorecards must be turned in by 3:30 PM)</p>\n\n<p data-end="730" data-start="660">Balls and some clubs will be provided\, or feel free to bring your own.</p>\n\n<p data-end="765" data-start="732">&#127828\;&#127926\; <strong data-end="763" data-start="737">Food &amp\; Fun Highlights:</strong></p>\n\n<ul data-end="924" data-start="766">\n	<li data-end="795" data-start="766">\n	<p data-end="795" data-start="768">Bar opens at <strong data-end="793" data-start="781">11:30 AM</strong></p>\n	</li>\n	<li data-end="829" data-start="796">\n	<p data-end="829" data-start="798">Drink delivery out on the ice</p>\n	</li>\n	<li data-end="867" data-start="830">\n	<p data-end="867" data-start="832"><strong data-end="865" data-start="832">Free food while supplies last</strong></p>\n	</li>\n	<li data-end="924" data-start="868">\n	<p data-end="924" data-start="870">Live music by <strong data-end="902" data-start="884">James Crockett</strong> from <strong data-end="924" data-start="908">3:00&ndash\;6:00 PM</strong></p>\n	</li>\n</ul>\n\n<p data-end="1112" data-is-last-node="" data-is-only-node="" data-start="926">Whether you&rsquo\;re golfing\, cheering\, or just enjoying the winter vibes\, this is a great way to support a good cause and have some fun on the ice. Grab your friends and come join the action!</p>\n
LOCATION:
UID:e.1184.36989
SEQUENCE:3
DTSTAMP:20260422T100956Z
URL:https://scms.saukprairie.com/events/details/golf-on-ice-charity-tournament-36989
END:VEVENT

END:VCALENDAR
