BEGIN:VCALENDAR
VERSION:2.0
PRODID:-//ChamberMaster//Event Calendar 2.0//EN
METHOD:PUBLISH
X-PUBLISHED-TTL:P3D
REFRESH-INTERVAL:P3D
CALSCALE:GREGORIAN
BEGIN:VEVENT
DTSTART:20260212T233000Z
DTEND:20260213T013000Z
X-MICROSOFT-CDO-ALLDAYEVENT:FALSE
SUMMARY:Galentine's Girls Night
DESCRIPTION:Galentine's Girls Night  \n\nGrab your girlfriends or come make new ones and join us for a heart-forward evening of connection\, creativity\, and a little self-love at Galentine's Girls Night.\n\nSip on wine\, coffee\, or tea while enjoying light snacks\, and get cozy with a fun blind date with a book (you never know what inspiration is waiting for you). We'll gather for a guided experience led by a local wellness speaker\, designed to help you slow down\, ground yourself\, and reconnect with intention\, encouragement\, and ease.\n\nYour ticket includes:\n\n\n	\n	An inspiring guest speaker\n	\n	\n	A Galentine's goodie bundle\n	\n	\n	Snacks & beverages\n	\n	\n	Blind date with a book\n	\n\n\nWant to treat yourself even more? Optional add-on experiences will be available\, including:\n\n\n	\n	Personalized chair massage for ultimate relaxation\n	\n	\n	Express rejuvenating facial to leave your skin glowing\n	\n	\n	Create & Keep jewelry workshop where you'll design a handcrafted piece that's as unique as you\n	\n\n\nAfter the guided portion\, enjoy time to shop the adorable ReTwist-T space\, soak in the joyful atmosphere\, and connect with incredible women.\n\nCome for the fun. Stay for the connection.\n\nLeave feeling inspired\, refreshed\, and celebrated  \n\n  ReTwist-T | 515 Water Street\, Sauk City\n\n  February 12 | 5:30 7:30 PM\n\n   RSVP & tickets available at ReTwist-T
X-ALT-DESC;FMTTYPE=text/html:<p data-end="219" data-start="190"><strong data-end="219" data-start="190">Galentine&rsquo\;s Girls Night &#10024\;</strong></p>\n\n<p data-end="386" data-start="221">Grab your girlfriends&mdash\;or come make new ones&mdash\;and join us for a heart-forward evening of connection\, creativity\, and a little self-love at <strong data-end="385" data-start="358">Galentine&rsquo\;s Girls Night</strong>.</p>\n\n<p data-end="723" data-start="388">Sip on wine\, coffee\, or tea while enjoying light snacks\, and get cozy with a fun <strong data-end="495" data-start="469">blind date with a book</strong> (you never know what inspiration is waiting for you). We&rsquo\;ll gather for a guided experience led by a local wellness speaker\, designed to help you slow down\, ground yourself\, and reconnect&mdash\;with intention\, encouragement\, and ease.</p>\n\n<p data-end="746" data-start="725">Your ticket includes:</p>\n\n<ul data-end="859" data-start="747">\n	<li data-end="777" data-start="747">\n	<p data-end="777" data-start="749">An inspiring guest speaker</p>\n	</li>\n	<li data-end="809" data-start="778">\n	<p data-end="809" data-start="780">A Galentine&rsquo\;s goodie bundle</p>\n	</li>\n	<li data-end="832" data-start="810">\n	<p data-end="832" data-start="812">Snacks &amp\; beverages</p>\n	</li>\n	<li data-end="859" data-start="833">\n	<p data-end="859" data-start="835">Blind date with a book</p>\n	</li>\n</ul>\n\n<p data-end="956" data-start="861">Want to treat yourself even more? Optional <strong data-end="926" data-start="904">add-on experiences</strong> will be available\, including:</p>\n\n<ul data-end="1181" data-start="957">\n	<li data-end="1015" data-start="957">\n	<p data-end="1015" data-start="959"><strong data-end="989" data-start="959">Personalized chair massage</strong> for ultimate relaxation</p>\n	</li>\n	<li data-end="1078" data-start="1016">\n	<p data-end="1078" data-start="1018"><strong data-end="1049" data-start="1018">Express rejuvenating facial</strong> to leave your skin glowing</p>\n	</li>\n	<li data-end="1181" data-start="1079">\n	<p data-end="1181" data-start="1081"><strong data-end="1115" data-start="1081">Create &amp\; Keep jewelry workshop</strong> where you&rsquo\;ll design a handcrafted piece that&rsquo\;s as unique as you</p>\n	</li>\n</ul>\n\n<p data-end="1323" data-start="1183">After the guided portion\, enjoy time to shop the adorable ReTwist-T space\, soak in the joyful atmosphere\, and connect with incredible women.</p>\n\n<p data-end="1422" data-start="1325">Come for the fun. Stay for the connection.<br data-end="1370" data-start="1367" />\nLeave feeling inspired\, refreshed\, and celebrated &#128149\;</p>\n\n<p data-end="1550" data-start="1424">&#128205\; <strong data-end="1470" data-start="1427">ReTwist-T | 515 Water Street\, Sauk City</strong><br data-end="1473" data-start="1470" />\n&#128197\; <strong data-end="1506" data-start="1476">February 12 | 5:30&ndash\;7:30 PM</strong><br data-end="1509" data-start="1506" />\n&#127903\;&#65039\; RSVP &amp\; tickets available at ReTwist-T</p>\n
LOCATION:
UID:e.1184.36973
SEQUENCE:3
DTSTAMP:20260422T100955Z
URL:https://scms.saukprairie.com/events/details/galentine-s-girls-night-36973
END:VEVENT

END:VCALENDAR
