BEGIN:VCALENDAR
VERSION:2.0
PRODID:-//ChamberMaster//Event Calendar 2.0//EN
METHOD:PUBLISH
X-PUBLISHED-TTL:P3D
REFRESH-INTERVAL:P3D
CALSCALE:GREGORIAN
BEGIN:VEVENT
DTSTART:20260215T161000Z
DTEND:20260215T172000Z
X-MICROSOFT-CDO-ALLDAYEVENT:FALSE
SUMMARY:Free Thought Forum
DESCRIPTION:Our Free Thought Forum for February will feature guest speaker and member\, Wood Weller. His topic will be "Death & Dying in the 21st Century".\n\n \n\nThe program begins at 10:10 am with brief announcements. Discussion and questions follow the presentation. We usually adjourn after 11:20 a.m.\n\n \n\nThe public is invited. Childcare is provided. If you can not attend in person\, please join the meeting via Zoom from our website: https://freecongregation.org/sunday-programs.aspx
X-ALT-DESC;FMTTYPE=text/html:<div color:="" font-size:="" segoe="" ui="">Our Free Thought Forum for February will feature guest speaker and member\, Wood Weller. His topic will be &quot\;Death &amp\; Dying in the 21st Century&quot\;.<br />\n&nbsp\;</div>\n\n<div color:="" font-size:="" segoe="" ui="">The program begins at 10:10 am with brief announcements. Discussion and questions follow the presentation. We usually adjourn after 11:20 a.m.<br />\n&nbsp\;</div>\n\n<div color:="" font-size:="" segoe="" ui="">The public is invited. Childcare is provided. If you can not attend in person\, please join the meeting via Zoom from our website:&nbsp\;<a attributionsrc="/privacy_sandbox/comet/register/source/?xt=AZbneeYyLILkPWP6hEJ_OR5FVy0zazRhMo3CFL9nrTCyXRn4YuFkD-4DwfXhTjf50dMH0SyMuGmt5p7NM0tYO5RpfyL41-xQBwT0_sRURL5sn3iDQTBP1dF8tnE_fRqe0YaHxejKAMlBDyPXGwwDEL--5CIDHVC7D9iKfd7skDJ6BCTG2JU69NDnElVyQJM9eVv9_7V1d1JU2rUaeN06cBNRAolIMt_9z4_88ln7x5dx3TYAXRabIbPxguzo9ggEvSKhwv461_yAObyqv4mvDivD_jcMx9RD6kjr2BsPFv0R1nrWwwUuq_ppzi8V1tKM92Fmlzahnn4ZZfhjI7BMJprN_8F8s34xICEY7Sw9JWTgiB-RmFcRghKMHl2DcBAliU073pVOIeNNmFMROxel8Cpn9b4qKY7Bbpo4ZFM6KVBKJ2d2NPh9qwwVNO5ri1HJV_2gxEB5QjU9feymy5tijf3Pl00z6Uf92vntN52U4OwJVDZkp1VfrFrBhKhB7y1R-MTcgHeIqJ_iIgfW5podKiiZDj7lxsTVunp91WFuo_3TsIscOKtyKyGUmU3_I1mHZC7QohJQ-APixyVQIphBXR-17aoIfu_fNfhGsaftHEvQjVvlp6v4WTwcmHRrFknBEZJZHiRLr_pXu6EfSf_YKlkuanrirbbw49GAD9in_2LiDpoK5w5YSrGKMuj5nA7vfQsTjhizQPP1CQ0pBl9n8bV4RuNdouvUsaeaWT6_r0qxRejElVN-xOTak13l48fOcpqF2Vzis27Qu--BaY-qQo9l_ZiXa0aG79bFrQJI9XyNLwpAI4KJEOg5rHA7JXAYu9uieqrnv6Ae9x-iEVbuzibkR1jHvYbifjhjsmASZi_IHQ" href="https://freecongregation.org/sunday-programs.aspx?fbclid=IwZXh0bgNhZW0CMTAAYnJpZBExOElmdjc3UDBNZ2NEbGx2THNydGMGYXBwX2lkEDIyMjAzOTE3ODgyMDA4OTIAAR5oHxREyVmSQXek5n_oOExGjE3VEgPvxYng_7C9rmfWUeCmJqyRgMyyNVeJCQ_aem_O_jFzL4Cb6n-4dmTBrCkcA" rel="nofollow noreferrer" role="link" tabindex="0" target="_blank">https://freecongregation.org/sunday-programs.aspx</a>&nbsp\;</div>\n
LOCATION:
UID:e.1184.37000
SEQUENCE:3
DTSTAMP:20260422T100747Z
URL:https://scms.saukprairie.com/events/details/free-thought-forum-37000
END:VEVENT

END:VCALENDAR
