BEGIN:VCALENDAR
VERSION:2.0
PRODID:-//ChamberMaster//Event Calendar 2.0//EN
METHOD:PUBLISH
X-PUBLISHED-TTL:P3D
REFRESH-INTERVAL:P3D
CALSCALE:GREGORIAN
BEGIN:VEVENT
DTSTART:20260512T150000Z
DTEND:20260512T190000Z
X-MICROSOFT-CDO-ALLDAYEVENT:FALSE
SUMMARY:Free Community Shred Day – BARABOO
DESCRIPTION:Free Community Shred Day   BARABOO | Protect Your Identity & Support People Helping People\n\nProtect your identity\, help the environment\, and support a local nonprofit   all in one stop!\n\nPrevail Bank invites the community to a FREE Shred Day at our Baraboo branch. Safely dispose of confidential documents and reduce the risk of identity theft.\n\n   What you can bring:\n\n      Old bank statements\n\n      Tax documents\n\n      Medical records\n\n      Any sensitive personal paperwork\n\n  Giving back:\n\nPrevail Bank will donate $1 for every pound of paper shredded\, up to $1\,000\, to People Helping People's Adopt a Veteran program.\n\n   By participating\, you're protecting yourself\, helping the planet\, and supporting a cause that matters locally. \n\n  Good to know:\n\n      Up to 3 boxes of paper are shredded for free\n\n     A $5/box donation is encouraged for more than 3 boxes\n\n     Monetary donations collected go directly to People Helping People \n\n  Event Details:\n\nLocation: Prevail Bank   110 Linn Street Baraboo\, WI 53913\n\nDate: Tuesday\, May 12\, 2026\n\nTime: 10 AM   2 PM
X-ALT-DESC;FMTTYPE=text/html:<p><span style="font-size:14px\;"><strong>Free Community Shred Day &ndash\; BARABOO | Protect Your Identity &amp\; Support People Helping People</strong></span></p>\n\n<p><strong>Protect your identity\, help the environment\, and support a local nonprofit &mdash\; all in one stop!</strong></p>\n\n<p>Prevail Bank invites the community to a&nbsp\;FREE Shred Day&nbsp\;at our&nbsp\;Baraboo branch. Safely dispose of confidential documents and reduce the risk of identity theft.</p>\n\n<p>&#128450\;&#65039\;&nbsp\;What you can bring:<br />\n&nbsp\;&nbsp\; &#10004\;&#65039\;&nbsp\;Old bank statements<br />\n&nbsp\;&nbsp\; &#10004\;&#65039\;&nbsp\;Tax documents<br />\n&nbsp\;&nbsp\; &#10004\;&#65039\;&nbsp\;Medical records<br />\n&nbsp\;&nbsp\; &#10004\;&#65039\;&nbsp\;Any sensitive personal paperwork</p>\n\n<p>&#128153\;&nbsp\;Giving back:<br />\nPrevail Bank will donate&nbsp\;$1 for every pound of paper shredded\, up to&nbsp\;$1\,000\, to&nbsp\;People Helping People&rsquo\;s Adopt a Veteran program.</p>\n\n<p>&#9851\;&#65039\;&nbsp\;By participating\, you&rsquo\;re protecting yourself\, helping the planet\,&nbsp\;and supporting a cause that matters locally.&nbsp\;</p>\n\n<p>&#128230\;&nbsp\;Good to know:<br />\n&nbsp\;&nbsp\; &nbsp\;&bull\; Up to&nbsp\;3 boxes&nbsp\;of paper are shredded for free<br />\n&nbsp\;&nbsp\; &bull\; A&nbsp\;$5/box donation&nbsp\;is encouraged for more than 3 boxes<br />\n&nbsp\;&nbsp\; &bull\; Monetary donations collected go directly to&nbsp\;People Helping People&nbsp\;</p>\n\n<p>&#128205\;&nbsp\;Event Details:<br />\nLocation:&nbsp\;Prevail Bank &ndash\; 110 Linn Street Baraboo\, WI 53913<br />\nDate:&nbsp\;Tuesday\, May 12\, 2026<br />\nTime:&nbsp\;10 AM &ndash\; 2 PM</p>\n
LOCATION:Prevail Bank 110 Linn Street Baraboo\, WI 53913
UID:e.1184.37177
SEQUENCE:3
DTSTAMP:20260422T075143Z
URL:https://scms.saukprairie.com/events/details/free-community-shred-day-baraboo-37177
END:VEVENT

END:VCALENDAR
