BEGIN:VCALENDAR
VERSION:2.0
PRODID:-//ChamberMaster//Event Calendar 2.0//EN
METHOD:PUBLISH
X-PUBLISHED-TTL:P3D
REFRESH-INTERVAL:P3D
CALSCALE:GREGORIAN
BEGIN:VEVENT
DTSTART:20260312T180000Z
DTEND:20260312T210000Z
X-MICROSOFT-CDO-ALLDAYEVENT:FALSE
SUMMARY:Free Advance Medical Directives Assistance
DESCRIPTION:Need help with your advance medical directives forms?\n\n\n\nFree assistance is available 1:00 - 4:00 pm the second and fourth Thursdays at Sauk Prairie Hospital\, 260 26th Street\, Prairie du Sac.\n\n\n\nCall 608-643-7589 to schedule a time. Walk-ins welcome. Check in at the Welcome Desk.
X-ALT-DESC;FMTTYPE=text/html:<span style="color: rgb(24\, 24\, 24)\; font-family: montserrat\, sans-serif\; font-size: 17.1667px\;">Need help with your</span><span style="color: rgb(86\, 100\, 35)\; font-family: montserrat\, sans-serif\; font-size: 0.899rem\;">&nbsp\;</span><span style="color: rgb(24\, 24\, 24)\; font-family: montserrat\, sans-serif\; font-size: 17.1667px\;">advance medical directives forms?</span><br />\n<br />\n<span style="color: rgb(24\, 24\, 24)\; font-family: montserrat\, sans-serif\; font-size: 17.1667px\;">Free assistance is available 1:00 - 4:00 pm the second and fourth Thursdays at Sauk Prairie Hospital\, 260 26th Street\, Prairie du Sac.</span><br />\n<br />\n<span style="color: rgb(24\, 24\, 24)\; font-family: montserrat\, sans-serif\; font-size: 17.1667px\;">Call 608-643-7589 to schedule a time. Walk-ins welcome. Check in at the Welcome Desk.</span>
LOCATION:
UID:e.1184.36950
SEQUENCE:3
DTSTAMP:20260422T080116Z
URL:https://scms.saukprairie.com/events/details/free-advance-medical-directives-assistance-03-12-2026-36950
END:VEVENT

END:VCALENDAR
