BEGIN:VCALENDAR
VERSION:2.0
PRODID:-//ChamberMaster//Event Calendar 2.0//EN
METHOD:PUBLISH
X-PUBLISHED-TTL:P3D
REFRESH-INTERVAL:P3D
CALSCALE:GREGORIAN
BEGIN:VEVENT
DTSTART:20260327T000000Z
DTEND:20260327T020000Z
X-MICROSOFT-CDO-ALLDAYEVENT:FALSE
SUMMARY:Fire on the River 2026 Rising Star Tryouts
DESCRIPTION:Fire on the River Rising Star Tryouts   March 26\n\nThe Rising Star competition continues with another exciting night of local talent at The Gym Bar & Grill. Musicians from around the area will perform live as they compete for a chance to play on the Fire on the River main stage this July 4th.\n\nCome support local artists\, enjoy a great night of music\, and take part in the People's Choice voting to help decide which performers advance. Your vote helps determine the top finalists!\n\n  Date: Thursday\, March 26\n\n  Time: 7:00 PM\n\n  Location: The Gym Bar & Grill\n\nJoin us for an evening of live music and help crown the next Fire on the River Rising Star!
X-ALT-DESC;FMTTYPE=text/html:<h3 data-end="954" data-start="900">Fire on the River Rising Star Tryouts &ndash\; March 26</h3>\n\n<p data-end="1205" data-start="955">The Rising Star competition continues with another exciting night of local talent at <strong data-end="1063" data-start="1040">The Gym Bar &amp\; Grill</strong>. Musicians from around the area will perform live as they compete for a chance to play on the <strong data-end="1204" data-start="1158">Fire on the River main stage this July 4th</strong>.</p>\n\n<p data-end="1398" data-start="1207">Come support local artists\, enjoy a great night of music\, and take part in the <strong data-end="1312" data-start="1286">People&rsquo\;s Choice voting</strong> to help decide which performers advance. Your vote helps determine the top finalists!</p>\n\n<p data-end="1494" data-start="1400">&#128197\; <strong data-end="1412" data-start="1403">Date:</strong> Thursday\, March 26<br data-end="1434" data-start="1431" />\n&#9200\; <strong data-end="1445" data-start="1436">Time:</strong> 7:00 PM<br data-end="1456" data-start="1453" />\n&#128205\; <strong data-end="1472" data-start="1459">Location:</strong> The Gym Bar &amp\; Grill</p>\n\n<p data-end="1591" data-start="1496">Join us for an evening of live music and help crown the next <strong data-end="1591" data-start="1557">Fire on the River Rising Star!</strong></p>\n
LOCATION:
UID:e.1184.37052
SEQUENCE:3
DTSTAMP:20260422T080702Z
URL:https://scms.saukprairie.com/events/details/fire-on-the-river-2026-rising-star-tryouts-37052
END:VEVENT

END:VCALENDAR
