BEGIN:VCALENDAR
VERSION:2.0
PRODID:-//ChamberMaster//Event Calendar 2.0//EN
METHOD:PUBLISH
X-PUBLISHED-TTL:P3D
REFRESH-INTERVAL:P3D
CALSCALE:GREGORIAN
BEGIN:VEVENT
DTSTART;VALUE=DATE:20260703
DTEND;VALUE=DATE:20260705
TRANSP:TRANSPARENT
X-MICROSOFT-CDO-ALLDAYEVENT:TRUE
SUMMARY:Fire on the River 2026
DESCRIPTION:Fire on the River   Sauk Prairie's Ultimate Summer Celebration!\n\nGet ready for one of Sauk Prairie's biggest and most exciting events of the year! Fire on the River brings the community together for an unforgettable weekend along the beautiful Wisconsin River.\n\nEnjoy live music\, delicious food and drinks\, and fun-filled activities for all ages. From the high-energy Eagle Chase (5K\, 10K\, and half marathon) to a classic car show\, games\, and more there's something for everyone to enjoy!\n\nAs the sun sets\, the excitement builds to a grand finale an incredible fireworks display lighting up the river and sky. It's the perfect way to celebrate summer with friends\, family\, and the entire community.\n\nDon't miss this vibrant\, can't-miss Sauk Prairie tradition!  \n  Learn more: Event Website
X-ALT-DESC;FMTTYPE=text/html:<p data-end="133" data-start="66"><strong data-end="133" data-start="66">Fire on the River &ndash\; Sauk Prairie&rsquo\;s Ultimate Summer Celebration!</strong></p>\n\n<p data-end="330" data-start="135">Get ready for one of Sauk Prairie&rsquo\;s biggest and most exciting events of the year! Fire on the River brings the community together for an unforgettable weekend along the beautiful Wisconsin River.</p>\n\n<p data-end="558" data-start="332">Enjoy live music\, delicious food and drinks\, and fun-filled activities for all ages. From the high-energy Eagle Chase (5K\, 10K\, and half marathon) to a classic car show\, games\, and more&mdash\;there&rsquo\;s something for everyone to enjoy!</p>\n\n<p data-end="768" data-start="560">As the sun sets\, the excitement builds to a grand finale&mdash\;an incredible fireworks display lighting up the river and sky. It&rsquo\;s the perfect way to celebrate summer with friends\, family\, and the entire community.</p>\n\n<p data-end="832" data-is-last-node="" data-is-only-node="" data-start="770">Don&rsquo\;t miss this vibrant\, can&rsquo\;t-miss Sauk Prairie tradition! &#127878\;</p>\n&#128073\; Learn more: <u><strong><a class="decorated-link" data-end="1239" data-start="1168" href="https://www.fireontheriver.org/" rel="noopener" target="_new">Event Website</a></strong></u>
LOCATION:Along the Wisconsin River downtown Sauk City.
UID:e.1184.37159
SEQUENCE:3
DTSTAMP:20260422T112701Z
URL:https://scms.saukprairie.com/events/details/fire-on-the-river-2026-37159
END:VEVENT

END:VCALENDAR
