BEGIN:VCALENDAR
VERSION:2.0
PRODID:-//ChamberMaster//Event Calendar 2.0//EN
METHOD:PUBLISH
X-PUBLISHED-TTL:P3D
REFRESH-INTERVAL:P3D
CALSCALE:GREGORIAN
BEGIN:VEVENT
DTSTART:20260421T210000Z
DTEND:20260421T223000Z
X-MICROSOFT-CDO-ALLDAYEVENT:FALSE
SUMMARY:Earth Day Celebration
DESCRIPTION:Celebrate Earth Day at the library! Build a recycled boat\, create a native seed ball for your garden\, decorate a nature badge\, and much more! Learn from the Conservation Alliance and check out PBS resources. Geared for ages K-5th. No registration required.
X-ALT-DESC;FMTTYPE=text/html:Celebrate Earth Day at the library! Build a recycled boat\, create a native seed ball for your garden\, decorate a nature badge\, and much more! Learn from the Conservation Alliance and check out PBS resources. Geared for ages K-5th. No registration required.<br />\n<scribe-shadow data-crx="okfkdaglfjjjfefdcppliegebpoegaii" id="crxjs-ext" style="position: fixed\; width: 0px\; height: 0px\; top: 0px\; left: 0px\; z-index: 2147483647\; overflow: visible\; visibility: visible\;"></scribe-shadow>
LOCATION:George Culver Community Library - Sauk City
UID:e.1184.37175
SEQUENCE:3
DTSTAMP:20260421T095954Z
URL:https://scms.saukprairie.com/events/details/earth-day-celebration-37175
END:VEVENT

END:VCALENDAR
