BEGIN:VCALENDAR
VERSION:2.0
PRODID:-//ChamberMaster//Event Calendar 2.0//EN
METHOD:PUBLISH
X-PUBLISHED-TTL:P3D
REFRESH-INTERVAL:P3D
CALSCALE:GREGORIAN
BEGIN:VEVENT
DTSTART:20260728T223000Z
DTEND:20260729T013000Z
X-MICROSOFT-CDO-ALLDAYEVENT:FALSE
SUMMARY:Culture on the River
DESCRIPTION:More event details to come.
X-ALT-DESC;FMTTYPE=text/html:More event details to come.
LOCATION:
UID:e.1184.37163
SEQUENCE:3
DTSTAMP:20260422T112827Z
URL:https://scms.saukprairie.com/events/details/culture-on-the-river-07-28-2026-37163
END:VEVENT

END:VCALENDAR
