BEGIN:VCALENDAR
VERSION:2.0
PRODID:-//ChamberMaster//Event Calendar 2.0//EN
METHOD:PUBLISH
X-PUBLISHED-TTL:P3D
REFRESH-INTERVAL:P3D
CALSCALE:GREGORIAN
BEGIN:VEVENT
DTSTART:20260424T150000Z
DTEND:20260424T170000Z
X-MICROSOFT-CDO-ALLDAYEVENT:FALSE
SUMMARY:Create & Connect
DESCRIPTION:Create and Connect! A monthly program for adults to enjoy community and unleash creativity. Bring the project you're currently working on\, or craft an item to take with you. This month: simple charm necklaces! No special skills required-- just relax and have fun while learning! Geared for adults\; free\; no registration required.
X-ALT-DESC;FMTTYPE=text/html:Create and Connect! A monthly program for adults to enjoy community and unleash creativity. Bring the project you&#39\;re currently working on\, or craft an item to take with you. This month: simple charm necklaces! No special skills required-- just relax and have fun while learning! Geared for adults\; free\; no registration required.
LOCATION:George Culver Community Library - Sauk City
UID:e.1184.37590
SEQUENCE:3
DTSTAMP:20260422T013943Z
URL:https://scms.saukprairie.com/events/details/create-connect-04-24-2026-37590
END:VEVENT

END:VCALENDAR
