BEGIN:VCALENDAR
VERSION:2.0
PRODID:-//ChamberMaster//Event Calendar 2.0//EN
METHOD:PUBLISH
X-PUBLISHED-TTL:P3D
REFRESH-INTERVAL:P3D
CALSCALE:GREGORIAN
BEGIN:VEVENT
DTSTART:20260214T003000Z
DTEND:20260214T023000Z
X-MICROSOFT-CDO-ALLDAYEVENT:FALSE
SUMMARY:Couple's Paint & Sip
DESCRIPTION:Custom Initials Singles & Couples V-Day Paint and Sip\n\n\nFri\, Feb 13 | Prairie du Sac\n\n\n\nBring your date\, or a friend\, or come on your own! All ages & skill levels welcome. Ticket includes all art supplies and step-by-step instruction by artist Jess from J Vod Creative. Drinks and food purchased separately through Water Street Social Club.
X-ALT-DESC;FMTTYPE=text/html:<h1 aria-hidden="false" data-hook="event-title" tabindex="-1">Custom Initials Singles &amp\; Couples V-Day Paint and Sip</h1>\n\n<div data-hook="short-date-location">\n<p data-hook="event-short-date">Fri\, Feb 13 | Prairie du Sac</p>\n</div>\n\n<div>\n<p data-hook="event-description">Bring your date\, or a friend\, or come on your own! All ages &amp\; skill levels welcome. Ticket includes all art supplies and step-by-step instruction by artist Jess from J Vod Creative. Drinks and food purchased separately through Water Street Social Club.</p>\n</div>\n
LOCATION:Water Street Social Club
UID:e.1184.36993
SEQUENCE:3
DTSTAMP:20260422T113322Z
URL:https://scms.saukprairie.com/events/details/couple-s-paint-sip-36993
END:VEVENT

END:VCALENDAR
