BEGIN:VCALENDAR
VERSION:2.0
PRODID:-//ChamberMaster//Event Calendar 2.0//EN
METHOD:PUBLISH
X-PUBLISHED-TTL:P3D
REFRESH-INTERVAL:P3D
CALSCALE:GREGORIAN
BEGIN:VEVENT
DTSTART:20260411T190000Z
DTEND:20260411T203000Z
X-MICROSOFT-CDO-ALLDAYEVENT:FALSE
SUMMARY:BROADWAY QUARTET: featuring Lindsey Giese\, Matt Brennan\, & Friends
DESCRIPTION:BROADWAY QUARTET: featuring Lindsey Giese\, Matt Brennan\, & Friends\n\nSaturday\, April 11\, 2026 2pm\n\n$30/Adults\, $10/Students (ages 4-18)\n\nat the Sauk Prairie River Arts Center (105-9th Street\, Prairie du Sac)\n\n\n\n\n\nSauk Prairie alumni Lindsey Giese and Matt Brennan return to the River Arts Center stage for another unforgettable Broadway Quartet concert. Backed by an incredible live band and joined by some of their talented friends\, this exclusive performance will take you on a journey through Broadway's most beloved hits\, from timeless classics to hidden gems. Experience the magic of musical theater with an evening filled with music\, energy\, and unforgettable moments!\n\nLindsey Giese\n\nLindsey holds dual Bachelor of Fine Arts degrees in Music Theatre and Arts Administration from Viterbo University. She spent four years as a lead singer aboard Holland America and Celebrity Cruises\, performing for audiences around the world before returning home to serve as Executive Director of River Arts Inc. until 2023. Her recent stage credits include Joseph and the Amazing Technicolor Dreamcoat (Narrator)\, The Last Five Years (Cathy)\, Into the Woods (Cinderella)\, and The 25th Annual Putnam County Spelling Bee (Olive) with the Sauk Prairie Theatre Guild. Additionally\, Lindsey toured for six years with The Dang-Its in their revue show\, Sweet Dreams and Honky Tonks. She currently works as the Director of Philanthropy for UnityPoint Health   Meriter Foundation.\n\nMatt Brennan\n\nMatt is a graduate of Drake University\, where he studied Music Education and Vocal Performance. After earning his degree\, he returned to Wisconsin to begin his teaching career\, serving as Choral Music Director at Sauk Prairie Middle School before transitioning to Sauk Prairie High School in 2012. At the high school\, Matt oversees four choral ensembles\, directs the annual 9th Street Revue\, leads the Executive Session and YTBN groups\, and serves as musical director for various productions\, including the beloved annual Madrigal Dinner. His recent performance credits include The Last Five Years (Jamie)\, Into the Woods (Baker)\, and The 25th Annual Putnam County Spelling Bee (Barfee) with the Sauk Prairie Theatre Guild. He was also a longtime member of the local band The Jacks\, performing with them from 2016 to 2024.
X-ALT-DESC;FMTTYPE=text/html:<p><strong>BROADWAY QUARTET: featuring Lindsey Giese\, Matt Brennan\, &amp\; Friends</strong></p>\n\n<p><strong>Saturday\, April 11\, 2026 2pm</strong></p>\n\n<p>$30/Adults\, $10/Students (ages 4-18)</p>\n\n<p><strong>at the Sauk Prairie River Arts Center (105-9th Street\, Prairie du Sac)</strong></p>\n\n<div>\n<div>\n<div>\n<div>\n<p>Sauk Prairie alumni Lindsey Giese and Matt Brennan return to the River Arts Center stage for another unforgettable Broadway Quartet concert. Backed by an incredible live band and joined by some of their talented friends\, this exclusive performance will take you on a journey through Broadway&rsquo\;s most beloved hits\, from timeless classics to hidden gems. Experience the magic of musical theater with an evening filled with music\, energy\, and unforgettable moments!</p>\n\n<p><strong>Lindsey Giese</strong><br />\nLindsey holds dual Bachelor of Fine Arts degrees in Music Theatre and Arts Administration from Viterbo University. She spent four years as a lead singer aboard Holland America and Celebrity Cruises\, performing for audiences around the world before returning home to serve as Executive Director of River Arts Inc. until 2023. Her recent stage credits include&nbsp\;<em>Joseph and the Amazing Technicolor Dreamcoat</em>&nbsp\;(Narrator)\,&nbsp\;<em>The Last Five Years</em>&nbsp\;(Cathy)\,&nbsp\;<em>Into the Woods</em>&nbsp\;(Cinderella)\, and&nbsp\;<em>The 25th Annual Putnam County Spelling Bee</em>&nbsp\;(Olive) with the Sauk Prairie Theatre Guild. Additionally\, Lindsey toured for six years with The Dang-Its in their revue show\,&nbsp\;<em>Sweet Dreams and Honky Tonks</em>. She currently works as the Director of Philanthropy for UnityPoint Health &ndash\; Meriter Foundation.</p>\n\n<p><strong>Matt Brennan</strong><br />\nMatt is a graduate of Drake University\, where he studied Music Education and Vocal Performance. After earning his degree\, he returned to Wisconsin to begin his teaching career\, serving as Choral Music Director at Sauk Prairie Middle School before transitioning to Sauk Prairie High School in 2012. At the high school\, Matt oversees four choral ensembles\, directs the annual&nbsp\;<em>9th Street Revue</em>\, leads the Executive Session and YTBN groups\, and serves as musical director for various productions\, including the beloved annual Madrigal Dinner. His recent performance credits include&nbsp\;<em>The Last Five Years</em>&nbsp\;(Jamie)\,&nbsp\;<em>Into the Woods</em>&nbsp\;(Baker)\, and&nbsp\;<em>The 25th Annual Putnam County Spelling Bee</em>&nbsp\;(Barfee) with the Sauk Prairie Theatre Guild. He was also a longtime member of the local band The Jacks\, performing with them from 2016 to 2024.</p>\n</div>\n</div>\n</div>\n</div>\n
LOCATION:at the Sauk Prairie River Arts Center (105-9th Street\, Prairie du Sac)
UID:e.1184.37003
SEQUENCE:3
DTSTAMP:20260422T080046Z
URL:https://scms.saukprairie.com/events/details/broadway-quartet-featuring-lindsey-giese-matt-brennan-friends-37003
END:VEVENT

END:VCALENDAR
