BEGIN:VCALENDAR
VERSION:2.0
PRODID:-//ChamberMaster//Event Calendar 2.0//EN
METHOD:PUBLISH
X-PUBLISHED-TTL:P3D
REFRESH-INTERVAL:P3D
CALSCALE:GREGORIAN
BEGIN:VEVENT
DTSTART:20260428T230000Z
DTEND:20260429T010000Z
X-MICROSOFT-CDO-ALLDAYEVENT:FALSE
SUMMARY:Boater Safety Class
DESCRIPTION:Boater Safety Class\n\nPrepare for a safe and enjoyable boating season by attending our Boater Safety Class hosted by the Prairie du Sac Fire Department.\n\nDates & Times:\n\n\n	\n	April 25th\, 8:00 AM   2:00 PM\n	\n	\n	April 28th\, 6:00 PM   8:00 PM\n	\n\n\nLocation:\n\nPrairie du Sac Fire Department\n\n855 7th Street\n\nPrairie du Sac\, WI 53578\n\nThis two-part course covers essential boating laws\, safety practices\, and responsible operation. Attendance at both sessions is required to receive certification.\n\nRegistration:\n\nRegister online through the Wisconsin DNR website: https://gowild.wi.gov\n\nCost: $10\n\nAdditional Information:\n\n\n	\n	Children under 12 may attend\; however\, certification is not valid until age 12\n	\n	\n	Please ensure you can attend both class dates before registering\n	\n\n\nQuestions?\n\nCall or text: 608-370-4243\n\nEmail: Austin.Lins@pdsfire.org\n\nJoin us to build your knowledge\, confidence\, and safety on the water this season!Don't miss this chance to stay safe and informed while enjoying Wisconsin's waterways!
X-ALT-DESC;FMTTYPE=text/html:<p class="isSelectedEnd"><strong>Boater Safety Class</strong></p>\n\n<p class="isSelectedEnd">Prepare for a safe and enjoyable boating season by attending our Boater Safety Class hosted by the Prairie du Sac Fire Department.</p>\n\n<p class="isSelectedEnd"><strong>Dates &amp\; Times:</strong></p>\n\n<ul data-spread="false">\n	<li>\n	<p class="isSelectedEnd">April 25th\, 8:00 AM &ndash\; 2:00 PM</p>\n	</li>\n	<li>\n	<p class="isSelectedEnd">April 28th\, 6:00 PM &ndash\; 8:00 PM</p>\n	</li>\n</ul>\n\n<p class="isSelectedEnd"><strong>Location:</strong><br />\nPrairie du Sac Fire Department<br />\n855 7th Street<br />\nPrairie du Sac\, WI 53578</p>\n\n<p class="isSelectedEnd">This two-part course covers essential boating laws\, safety practices\, and responsible operation. Attendance at both sessions is required to receive certification.</p>\n\n<p class="isSelectedEnd"><strong>Registration:</strong><br />\nRegister online through the Wisconsin DNR website: <a href="https://gowild.wi.gov">https://gowild.wi.gov</a></p>\n\n<p class="isSelectedEnd"><strong>Cost:</strong> $10</p>\n\n<p class="isSelectedEnd"><strong>Additional Information:</strong></p>\n\n<ul data-spread="false">\n	<li>\n	<p class="isSelectedEnd">Children under 12 may attend\; however\, certification is not valid until age 12</p>\n	</li>\n	<li>\n	<p class="isSelectedEnd">Please ensure you can attend both class dates before registering</p>\n	</li>\n</ul>\n\n<p class="isSelectedEnd"><strong>Questions?</strong><br />\nCall or text: 608-370-4243<br />\nEmail: <a href="mailto:Austin.Lins@pdsfire.org">Austin.Lins@pdsfire.org</a></p>\n\n<p>Join us to build your knowledge\, confidence\, and safety on the water this season!<a data-end="933" data-start="910" rel="noopener"><svg aria-hidden="true" data-rtl-flip="" xmlns="http://www.w3.org/2000/svg"><use fill="currentColor" href="/cdn/assets/sprites-core-cohbnghc.svg#304883">Don&rsquo\;t miss this chance to stay safe and informed while enjoying Wisconsin&rsquo\;s waterways!</use></svg></a></p>\n
LOCATION:Prairie du Sac Fire Dept
UID:e.1184.37150
SEQUENCE:3
DTSTAMP:20260422T063937Z
URL:https://scms.saukprairie.com/events/details/boater-safety-class-37150
END:VEVENT

END:VCALENDAR
