BEGIN:VCALENDAR
VERSION:2.0
PRODID:-//ChamberMaster//Event Calendar 2.0//EN
METHOD:PUBLISH
X-PUBLISHED-TTL:P3D
REFRESH-INTERVAL:P3D
CALSCALE:GREGORIAN
BEGIN:VEVENT
DTSTART:20260928T130000Z
DTEND:20260928T210000Z
X-MICROSOFT-CDO-ALLDAYEVENT:FALSE
SUMMARY:Accelerate Your Business for Women
DESCRIPTION:Join SCORE Wisconsin for Accelerate Your Business for Women\, a dynamic full-day event designed to inspire\, educate\, and connect entrepreneurs and professionals. Taking place on September 28\, 2026\, from 8:00 AM   4:00 PM at the Kalahari Resort & Conference Center in Wisconsin Dells\, this conference brings together expert speakers and business leaders to share insights on finance\, marketing\, technology\, and essential life skills for business success.\n\nThe event will feature Amanda Kroener\, Co-Founder of Carbliss Cocktails \, who will share her entrepreneurial journey and insights into building and growing a successful brand.\n\nHosted by SCORE chapters across Wisconsin\, Accelerate Your Business for Women offers valuable learning opportunities\, networking\, and inspiration for anyone looking to grow personally or professionally. Whether you're starting a business\, scaling an existing one\, or simply looking to expand your knowledge and connections\, this event provides practical tools and meaningful connections to help you move forward.\n\nOpen to all.\n\n  Location: Kalahari Resort & Conference Center\, 305 Kalahari Dr.\, Wisconsin Dells\, WI\n\n  Date: September 28\, 2026\n\n  Time: 8:00 AM   4:00 PM\n\nSave the date and get ready to learn\, grow\, and accelerate your business.
X-ALT-DESC;FMTTYPE=text/html:<p data-end="487" data-start="23">Join SCORE Wisconsin for <strong data-end="86" data-start="48">Accelerate Your Business for Women</strong>\, a dynamic full-day event designed to inspire\, educate\, and connect entrepreneurs and professionals. Taking place on <strong data-end="312" data-start="204">September 28\, 2026\, from 8:00 AM &ndash\; 4:00 PM at the Kalahari Resort &amp\; Conference Center in Wisconsin Dells</strong>\, this conference brings together expert speakers and business leaders to share insights on <strong data-end="486" data-start="404">finance\, marketing\, technology\, and essential life skills for business success</strong>.</p>\n\n<p data-end="668" data-start="489">The event will feature <strong data-end="566" data-start="512">Amanda Kroener\, Co-Founder of Carbliss Cocktails&reg\;\,</strong> who will share her entrepreneurial journey and insights into building and growing a successful brand.</p>\n\n<p data-end="1086" data-start="670">Hosted by SCORE chapters across Wisconsin\, <strong data-end="751" data-start="713">Accelerate Your Business for Women</strong> offers valuable learning opportunities\, networking\, and inspiration for anyone looking to grow personally or professionally. Whether you&#39\;re starting a business\, scaling an existing one\, or simply looking to expand your knowledge and connections\, this event provides practical tools and meaningful connections to help you move forward.</p>\n\n<p data-end="1104" data-start="1088"><strong data-end="1104" data-start="1088">Open to all.</strong></p>\n\n<p data-end="1263" data-start="1106">&#128205\; <strong data-end="1122" data-start="1109">Location:</strong> Kalahari Resort &amp\; Conference Center\, 305 Kalahari Dr.\, Wisconsin Dells\, WI<br data-end="1200" data-start="1197" />\n&#128197\; <strong data-end="1212" data-start="1203">Date:</strong> September 28\, 2026<br data-end="1234" data-start="1231" />\n&#9200\; <strong data-end="1245" data-start="1236">Time:</strong> 8:00 AM &ndash\; 4:00 PM</p>\n\n<p data-end="1342" data-is-last-node="" data-is-only-node="" data-start="1265">Save the date and get ready to <strong data-end="1342" data-is-last-node="" data-start="1296">learn\, grow\, and accelerate your business.</strong></p>\n
LOCATION:Kalahari Resort & Conference Center
UID:e.1184.37140
SEQUENCE:3
DTSTAMP:20260422T144526Z
URL:https://scms.saukprairie.com/events/details/accelerate-your-business-for-women-37140
END:VEVENT

END:VCALENDAR
