BEGIN:VCALENDAR
VERSION:2.0
PRODID:-//ChamberMaster//Event Calendar 2.0//EN
METHOD:PUBLISH
X-PUBLISHED-TTL:P3D
REFRESH-INTERVAL:P3D
CALSCALE:GREGORIAN
BEGIN:VEVENT
DTSTART:20260228T010000Z
DTEND:20260228T023000Z
X-MICROSOFT-CDO-ALLDAYEVENT:FALSE
SUMMARY:A ROCK ‘N’ ROLL TRIBUTE: FROM ELVIS TO THE BEATLES! featuring The Neverly Brothers
DESCRIPTION:A ROCK 'N' ROLL TRIBUTE: FROM ELVIS TO THE BEATLES! featuring The Neverly Brothers\n\n\n\n\n\n\n\nFriday\, February 27\, 2026 7pm\n\nTickets on sale 6/24: $35/Adults\, $10/Students (ages 4-18)\n\nat the Sauk Prairie River Arts Center (105-9th Street\, Prairie du Sac)\n\n\n\n\n"A Rock 'n' Roll Tribute   From Elvis to the Beatles featuring The Neverly Brothers"\n\nThe Neverly Brothers concerts take you on a guided musical VIRTUAL TOUR of the birth\, near death and resurrection of rock n' roll rock n roll   from 1955 to 1965. You'll learn rock history and be thoroughly entertained with their chronological song sequence\, stories behind the music and vintage wardrobe changes. Their energetic stage show consists of show-stopping renditions of early hits by Jerry Lee Lewis\, Chuck Berry\, Buddy Holly\, The Beatles\, Rolling Stones\, and more!\n\nThe first half of their concert pays tribute to the music created by the 1950s American Rock n' Roll pioneers   which by 1960 had become a distant memory but became the inspiration for the next wave of young rock bands from Britain. The second half then pays tribute to the 1964 British Invasion bands that re-recorded the forgotten 1950s American rock music   along with lesser known early 1960s rhythm & blues songs\, recorded their own original songs and pulled Rock n' Roll from the edge of extinction by re-inventing and re-energizing it for a new generation.\n\nTheir repertoire includes spirited performances of classics like Great balls of fire\, Johnny B. Goode\, Wake up little Susie\, Summertime blues\, That'll be the day\, Twist & shout\, Roll over Beethoven\, Satisfaction\, You really got me\, Love potion #9 and many more!\n\nIt's not "moldy oldies"- it's "old-school cool!" So hop aboard our virtual tour bus and fasten your seatbelts for an exciting MAGICAL HISTORY TOUR!
X-ALT-DESC;FMTTYPE=text/html:<div>\n<div>\n<div>\n<div>\n<div>\n<h2><strong style="font-size:13px">A ROCK &lsquo\;N&rsquo\; ROLL TRIBUTE: FROM ELVIS TO THE BEATLES! featuring The Neverly Brothers</strong></h2>\n</div>\n</div>\n</div>\n</div>\n</div>\n\n<div>\n<p><strong>Friday\, February 27\, 2026 7pm</strong></p>\n\n<p>Tickets on sale 6/24: $35/Adults\, $10/Students (ages 4-18)</p>\n\n<p><strong>at the Sauk Prairie River Arts Center (105-9th Street\, Prairie du Sac)</strong></p>\n\n<div>\n<div>\n<div>\n<p><strong>&ldquo\;A Rock &lsquo\;n&rsquo\; Roll Tribute &ndash\; From Elvis to the Beatles&nbsp\;</strong><strong><em>featuring</em></strong><strong>&nbsp\;The Neverly Brothers&rdquo\;</strong></p>\n\n<p>The Neverly Brothers concerts take you on a guided musical VIRTUAL TOUR of the birth\, near death and resurrection of rock n&rsquo\; roll rock n roll &ndash\; from 1955 to 1965. You&rsquo\;ll learn rock history and be thoroughly entertained with their chronological song sequence\, stories behind the music and vintage wardrobe changes. Their energetic stage show consists of show-stopping renditions of early hits by Jerry Lee Lewis\, Chuck Berry\, Buddy Holly\, The Beatles\, Rolling Stones\, and more!</p>\n\n<p>The first half of their concert pays tribute to the music created by the 1950s American Rock n&rsquo\; Roll pioneers &ndash\; which by 1960 had become a distant memory but became the inspiration for the next wave of young rock bands from Britain. The second half then pays tribute to the 1964 British Invasion bands that re-recorded the forgotten 1950s American rock music &ndash\; along with lesser known early 1960s rhythm &amp\; blues songs\, recorded their own original songs and pulled Rock n&rsquo\; Roll from the edge of extinction by re-inventing and re-energizing it for a new generation.</p>\n\n<p>Their repertoire includes spirited performances of classics like Great balls of fire\, Johnny B. Goode\, Wake up little Susie\, Summertime blues\, That&rsquo\;ll be the day\, Twist &amp\; shout\, Roll over Beethoven\, Satisfaction\, You really got me\, Love potion #9 and many more!</p>\n\n<p><strong>It&lsquo\;s not &ldquo\;moldy oldies&rdquo\;- it&rsquo\;s &ldquo\;old-school cool!&rdquo\; So hop aboard our virtual tour bus and fasten your seatbelts for an exciting MAGICAL HISTORY TOUR!</strong></p>\n</div>\n</div>\n</div>\n</div>\n
LOCATION:at the Sauk Prairie River Arts Center (105-9th Street\, Prairie du Sac)
UID:e.1184.37002
SEQUENCE:3
DTSTAMP:20260422T101236Z
URL:https://scms.saukprairie.com/events/details/a-rock-n-roll-tribute-from-elvis-to-the-beatles-featuring-the-neverly-brothers-37002
END:VEVENT

END:VCALENDAR
