BEGIN:VCALENDAR
VERSION:2.0
PRODID:-//ChamberMaster//Event Calendar 2.0//EN
METHOD:PUBLISH
X-PUBLISHED-TTL:P3D
REFRESH-INTERVAL:P3D
CALSCALE:GREGORIAN
BEGIN:VEVENT
DTSTART:20260314T000000Z
DTEND:20260314T013000Z
X-MICROSOFT-CDO-ALLDAYEVENT:FALSE
SUMMARY:A CELTIC JOURNEY WITH HARP & SONG: featuring Shari Sarazin
DESCRIPTION:A CELTIC JOURNEY WITH HARP & SONG: featuring Shari Sarazin\n\nFriday\, March 13\, 2026 7pm\n\n$20\n\nat The River Arts on Water Gallery\n\nFrom ancient Celtic melodies to contemporary love ballads and holiday favorites\, Shari's music will delight\, intrigue\, soothe\, and bring you to joyful tears.\n\nHer over forty years of musical experience brings with it an abundant repertoire that has been nurtured and molded to bring her listeners close at heart. The heavenly strains of the Celtic harp along with Shari's inspiring vocals will at times allow you to peer into the depths of her soul!
X-ALT-DESC;FMTTYPE=text/html:<p><strong>A CELTIC JOURNEY WITH HARP &amp\; SONG: featuring Shari Sarazin</strong></p>\n\n<p><strong>Friday\, March 13\, 2026 7pm</strong></p>\n\n<p>$20</p>\n\n<p><strong>at The River Arts on Water Gallery</strong></p>\n\n<p>From ancient Celtic melodies to contemporary love ballads and holiday favorites\, Shari&rsquo\;s music will delight\, intrigue\, soothe\, and bring you to joyful tears.<br />\nHer over forty years of musical experience brings with it an abundant repertoire that has been nurtured and molded to bring her listeners close at heart. The heavenly strains of the Celtic harp along with Shari&rsquo\;s inspiring vocals will at times allow you to peer into the depths of her soul!</p>\n
LOCATION:at The River Arts on Water Gallery 590 Water St. Prairie du Sac
UID:e.1184.37006
SEQUENCE:3
DTSTAMP:20260422T080045Z
URL:https://scms.saukprairie.com/events/details/a-celtic-journey-with-harp-song-featuring-shari-sarazin-37006
END:VEVENT

END:VCALENDAR
