BEGIN:VCALENDAR
VERSION:2.0
PRODID:-//ChamberMaster//Event Calendar 2.0//EN
METHOD:PUBLISH
X-PUBLISHED-TTL:P3D
REFRESH-INTERVAL:P3D
CALSCALE:GREGORIAN
BEGIN:VEVENT
DTSTART:20260425T130000Z
DTEND:20260425T170000Z
X-MICROSOFT-CDO-ALLDAYEVENT:FALSE
SUMMARY:6:8 Earth Day Work Day
DESCRIPTION:Join us for our Earth Day Work Day where volunteer help to clean up a section of the highway or in and around our building and then enjoy a meal together.
X-ALT-DESC;FMTTYPE=text/html:<font color="#222222" face="arial\, helvetica\, sans-serif" size="2">Join us for our Earth Day Work Day where volunteer help to clean up a section of the highway or in and around our building and then enjoy a meal together.</font>
LOCATION:6:8 Inc. 821 Industry Rd. Sauk City\, WI 53583
UID:e.1184.37389
SEQUENCE:3
DTSTAMP:20260422T014259Z
URL:https://scms.saukprairie.com/events/details/6-8-earth-day-work-day-37389
END:VEVENT

END:VCALENDAR
