BEGIN:VCALENDAR
VERSION:2.0
PRODID:-//ChamberMaster//Event Calendar 2.0//EN
METHOD:PUBLISH
X-PUBLISHED-TTL:P3D
REFRESH-INTERVAL:P3D
CALSCALE:GREGORIAN
BEGIN:VEVENT
DTSTART:20260422T140000Z
DTEND:20260425T160000Z
X-MICROSOFT-CDO-ALLDAYEVENT:FALSE
SUMMARY:6:8 Activity SWAP
DESCRIPTION:Come join us for our annual Spring Activity Swap!\n \n\nDonate your gently used sports gear\, bikes\, gardening supplies\, ice skates\, outdoor games\, and indoor games (puzzles\, board games\, card games)\, books and toys or come and pick out some new-to-you items! We are not able to store items\, so donations can NOT be accepted until Wednesday April 22nd. \n \n\nSchedule: \n\nWed\, April 22  (9am-3pm) DROP OFF ONLY\n\nThurs\, April 23 (4-7pm) SHOP & DROP\n\nFri\, April 24 (9am-11am) SHOP & DROP\n\nSat\, April 25 (9am-11am) SHOP ONLY
X-ALT-DESC;FMTTYPE=text/html:<p style="text-align:center"><span style="color:rgb(31\, 31\, 31)\; font-family:roboto\,arial\; font-size:18pt">Come join us for our annual Spring Activity Swap!</span></p>\n&nbsp\;\n\n<p style="text-align:center"><span style="color:rgb(31\, 31\, 31)\; font-family:roboto\,arial\; font-size:18pt">Donate your gently used sports gear\, bikes\, gardening supplies\, ice skates\, outdoor games\, and indoor games (puzzles\, board games\, card games)\, books and toys or come and pick out some new-to-you items! We are not able to store items\, so donations can NOT be accepted until Wednesday April 22nd.</span><span style="color:rgb(0\, 0\, 0)\; font-family:arial\; font-size:18pt">&nbsp\;</span></p>\n&nbsp\;\n\n<p style="text-align:center"><strong>Schedule:&nbsp\;</strong></p>\n\n<p style="text-align:center"><span style="color:rgb(67\, 67\, 67)\; font-family:roboto\,arial\; font-size:18pt">Wed\,</span><span style="color:rgb(67\, 67\, 67)\; font-family:roboto\,arial\; font-size:18pt">&nbsp\;April 22&nbsp\;</span><span style="color:rgb(67\, 67\, 67)\; font-family:roboto\,arial\; font-size:18pt">&nbsp\;(9am-3pm)</span><strong>&nbsp\;DROP OFF</strong><span style="color:rgb(67\, 67\, 67)\; font-family:roboto\,arial\; font-size:18pt">&nbsp\;ONLY</span></p>\n\n<p style="text-align:center"><span style="color:rgb(67\, 67\, 67)\; font-family:roboto\,arial\; font-size:18pt">Thurs\,</span><span style="color:rgb(67\, 67\, 67)\; font-family:roboto\,arial\; font-size:18pt">&nbsp\;April 23</span><span style="color:rgb(67\, 67\, 67)\; font-family:roboto\,arial\; font-size:18pt">&nbsp\;(4-7pm) SHOP &amp\; DROP</span></p>\n\n<p style="text-align:center"><span style="color:rgb(67\, 67\, 67)\; font-family:roboto\,arial\; font-size:18pt">Fri\,&nbsp\;</span><span style="color:rgb(67\, 67\, 67)\; font-family:roboto\,arial\; font-size:18pt">April 24</span><span style="color:rgb(67\, 67\, 67)\; font-family:roboto\,arial\; font-size:18pt">&nbsp\;(9am-</span><span style="color:rgb(67\, 67\, 67)\; font-family:roboto\,arial\; font-size:18pt">11am</span><span style="color:rgb(67\, 67\, 67)\; font-family:roboto\,arial\; font-size:18pt">) SHOP &amp\; DROP</span></p>\n\n<p style="text-align:center"><span style="color:rgb(67\, 67\, 67)\; font-family:roboto\,arial\; font-size:18pt">Sat\,&nbsp\;</span><span style="color:rgb(67\, 67\, 67)\; font-family:roboto\,arial\; font-size:18pt">April 25</span><span style="color:rgb(67\, 67\, 67)\; font-family:roboto\,arial\; font-size:18pt">&nbsp\;(9am-</span><span style="color:rgb(67\, 67\, 67)\; font-family:roboto\,arial\; font-size:18pt">11am</span><span style="color:rgb(67\, 67\, 67)\; font-family:roboto\,arial\; font-size:18pt">) SHOP ONLY&nbsp\;&nbsp\;</span></p>\n
LOCATION:6:8 Inc. 821 Industry Rd. Sauk City\, WI 53583
UID:e.1184.37185
SEQUENCE:3
DTSTAMP:20260421T150056Z
URL:https://scms.saukprairie.com/events/details/6-8-activity-swap-37185
END:VEVENT

END:VCALENDAR
