BEGIN:VCALENDAR
VERSION:2.0
PRODID:-//ChamberMaster//Event Calendar 2.0//EN
METHOD:PUBLISH
X-PUBLISHED-TTL:P3D
REFRESH-INTERVAL:P3D
CALSCALE:GREGORIAN
BEGIN:VEVENT
DTSTART:20260212T190000Z
DTEND:20260212T220000Z
X-MICROSOFT-CDO-ALLDAYEVENT:FALSE
SUMMARY:$500 Travel Voucher Giveway Call-In
DESCRIPTION:Forget the wilting roses this Valentines Day. We're giving away a $500 Travel Escape from Magical Moments Vacation to help you ditch the winter gray. Whether you need a romantic getaway or just a solo flight to somewhere warm\, we've got you covered.\n\nHow to Enter: No forms\, no bots\, just a quick chat.\n\n\n	\n	When: Call us Thursday\, Feb 12th\, between 1:00 PM and 4:00 PM.\n	\n	\n	The Number: 608-292-5012\n	\n	\n	The Catch-Up: We'll chat for 2 minutes to see how you're doing. That's it you're entered!\n	\n\n\nDouble Your Chances: Know someone else who needs a vacation? Have them call in during that same window. If they mention your name\, you both get a bonus entry.\n\nSet a phone reminder for 1 PM on Thursday. We can't wait to talk to you!
X-ALT-DESC;FMTTYPE=text/html:<p>Forget the wilting roses this Valentines Day. We&rsquo\;re giving away a <strong>$500 Travel Escape </strong>from Magical Moments Vacation to help you ditch the winter gray. Whether you need a romantic getaway or just a solo flight to somewhere warm\, we&rsquo\;ve got you covered.</p>\n\n<hr /><strong>How to Enter:</strong>&nbsp\;No forms\, no bots\, just a quick chat.\n\n<ul>\n	<li>\n	<p><strong>When:</strong> Call us Thursday\, Feb 12th\, between 1:00 PM and 4:00 PM.</p>\n	</li>\n	<li>\n	<p><strong>The Number:</strong>&nbsp\;608-292-5012</p>\n	</li>\n	<li>\n	<p><strong>The Catch-Up:</strong> We&rsquo\;ll chat for 2 minutes to see how you&rsquo\;re doing. That&rsquo\;s it&mdash\;you&rsquo\;re entered!</p>\n	</li>\n</ul>\n\n<p><strong>Double Your Chances:</strong> Know someone else who needs a vacation? Have them call in during that same window. If they mention <strong>your name</strong>\, you both get a bonus entry.</p>\n\n<p>Set a phone reminder for 1 PM on Thursday. We can&rsquo\;t wait to talk to you!</p>\n
LOCATION:Call 608-292-5012
UID:e.1184.36992
SEQUENCE:3
DTSTAMP:20260422T100955Z
URL:https://scms.saukprairie.com/events/details/500-travel-voucher-giveway-call-in-36992
END:VEVENT

END:VCALENDAR
