BEGIN:VCALENDAR
VERSION:2.0
PRODID:-//ChamberMaster//Event Calendar 2.0//EN
METHOD:PUBLISH
X-PUBLISHED-TTL:P3D
REFRESH-INTERVAL:P3D
CALSCALE:GREGORIAN
BEGIN:VEVENT
DTSTART;VALUE=DATE:20260520
DTEND;VALUE=DATE:20260521
TRANSP:TRANSPARENT
X-MICROSOFT-CDO-ALLDAYEVENT:TRUE
SUMMARY:2026 Spring Swing - Lake Wisconsin Country Club
DESCRIPTION:Spring Swing Golf Outing 2026  \n\nJoin the Sauk Prairie Area Chamber of Commerce for our annual Spring Swing Golf Outing on Wednesday\, May 20\, 2026\, at Lake Wisconsin Country Club. This popular event brings together Chamber members\, businesses\, and community partners for a fun day of networking\, friendly competition\, and connection.\n\nThe day kicks off with registration and a beverage bar at 9:00 AM\, along with grab-and-go breakfast items to get golfers ready for the day. A 10:00 AM scramble follows\, leading into a post-round meal at approximately 3:00 PM.\n\nWhether you're golfing\, sponsoring\, or joining us for the meal\, Spring Swing is a great opportunity to build relationships\, support the Chamber\, and enjoy a great day on the course.\n\nRegistration is open scan the QR code or click here to sign up and be part of this Chamber tradition!
X-ALT-DESC;FMTTYPE=text/html:<p data-end="185" data-start="146">&#9971\; <strong data-end="181" data-start="148">Spring Swing Golf Outing 2026</strong> &#9971\;</p>\n\n<p data-end="499" data-start="187">Join the Sauk Prairie Area Chamber of Commerce for our annual <strong data-end="277" data-start="249">Spring Swing Golf Outing</strong> on <strong data-end="308" data-start="281">Wednesday\, May 20\, 2026</strong>\, at <strong data-end="344" data-start="313">Lake Wisconsin Country Club</strong>. This popular event brings together Chamber members\, businesses\, and community partners for a fun day of networking\, friendly competition\, and connection.</p>\n\n<p data-end="728" data-start="501">The day kicks off with <strong data-end="570" data-start="524">registration and a beverage bar at 9:00 AM</strong>\, along with <strong data-end="614" data-start="583">grab-and-go breakfast items</strong> to get golfers ready for the day. A <strong data-end="672" data-start="651">10:00 AM scramble</strong> follows\, leading into a <strong data-end="727" data-start="697">post-round meal at approximately 3:00 PM</strong>.</p>\n\n<p data-end="911" data-start="730">Whether you&rsquo\;re golfing\, sponsoring\, or joining us for the meal\, Spring Swing is a great opportunity to build relationships\, support the Chamber\, and enjoy a great day on the course.</p>\n\n<p data-end="1000" data-start="913">Registration is open&mdash\;scan the QR code or click <u><strong><a href="https://forms.gle/4SRmmtHAoLqNUQrT9">here</a></strong></u> to sign up and be part of this Chamber tradition!</p>\n\n<p data-end="1189" data-start="1005">&nbsp\;</p>\n
LOCATION:Lake Wisconsin Country Club
UID:e.1184.36987
SEQUENCE:3
DTSTAMP:20260422T070157Z
URL:https://scms.saukprairie.com/events/details/2026-spring-swing-lake-wisconsin-country-club-36987
END:VEVENT

END:VCALENDAR
