BEGIN:VCALENDAR
VERSION:2.0
PRODID:-//ChamberMaster//Event Calendar 2.0//EN
METHOD:PUBLISH
X-PUBLISHED-TTL:P3D
REFRESH-INTERVAL:P3D
CALSCALE:GREGORIAN
BEGIN:VEVENT
DTSTART:20260618T213000Z
DTEND:20260619T003000Z
X-MICROSOFT-CDO-ALLDAYEVENT:FALSE
SUMMARY:2026 Community Expo: Eat | Explore | Connect
DESCRIPTION:Community Expo 2026  \n\nEat | Explore | Connect\n\nJoin the Sauk Prairie Area Chamber of Commerce for the Community Expo on Thursday\, June 18\, from 4:30-7:30 PM at Culver Community Park in Prairie du Sac. This signature summer event brings together local businesses\, nonprofits\, organizations\, and the community for an evening of connection\, discovery\, and fun.\n\nStroll the Expo grounds to explore dozens of booths\, learn about local products and services\, and make meaningful connections\, all while enjoying great food and a welcoming\, family-friendly atmosphere.\n\n  Food & Tickets\n\nPublic tickets go on sale April 15.\n\nEach $25 ticket includes a delicious on-site meal featuring a steak or chicken kabob grilled by Prem Meats & Catering\, fresh corn on the cob prepared by Tim Lins and the Lins Family\, potato salad\, a dinner roll\, and bottled water.\n\n  New for 2026\n\nAttendees can take part in an interactive Eat  Explore  Connect-O experience visit booths\, complete the card\, and be entered to win a prize.\n\nWhether you're coming to eat\, explore local businesses\, connect with the community\, or all three\, the Community Expo is a can't-miss event.\n\n  Learn more\, register a booth\, or purchase tickets at saukprairie.com.
X-ALT-DESC;FMTTYPE=text/html:<div color:="" font-size:="" segoe="" ui="">\n<p data-end="217" data-start="158">&#127775\; <strong data-end="184" data-start="161">Community Expo 2026</strong> &#127775\;<br data-end="190" data-start="187" />\n<strong data-end="217" data-start="190">Eat | Explore | Connect</strong></p>\n\n<p data-end="541" data-start="219">Join the Sauk Prairie Area Chamber of Commerce for the <strong data-end="292" data-start="274">Community Expo</strong> on <strong data-end="336" data-start="296">Thursday\, June 18\, from 4:30-7:30 PM</strong> at <strong data-end="365" data-start="340">Culver Community Park</strong> in Prairie du Sac. This signature summer event brings together local businesses\, nonprofits\, organizations\, and the community for an evening of connection\, discovery\, and fun.</p>\n\n<p data-end="747" data-start="543">Stroll the Expo grounds to <strong data-end="598" data-start="570">explore dozens of booths</strong>\, learn about local products and services\, and make meaningful connections\, all while enjoying great food and a welcoming\, family-friendly atmosphere.</p>\n\n<p data-end="1056" data-start="749">&#127869\; <strong data-end="770" data-start="752">Food &amp\; Tickets</strong><br data-end="773" data-start="770" />\nPublic tickets go on sale <strong data-end="810" data-start="799">April 15</strong>.<br data-end="814" data-start="811" />\nEach <strong data-end="833" data-start="819">$25 ticket</strong> includes a delicious on-site meal featuring a steak or chicken kabob grilled by <strong data-end="939" data-start="914">Prem Meats &amp\; Catering</strong>\, fresh corn on the cob prepared by <strong data-end="1007" data-start="975">Tim Lins and the Lins Family</strong>\, potato salad\, a dinner roll\, and bottled water.</p>\n\n<p data-end="1226" data-start="1058">&#127919\; <strong data-end="1077" data-start="1061">New for 2026</strong><br data-end="1080" data-start="1077" />\nAttendees can take part in an interactive <strong data-end="1151" data-start="1122">Eat &nbsp\;Explore &nbsp\;Connect-O</strong> experience visit booths\, complete the card\, and be entered to win a prize.</p>\n\n<p data-end="1367" data-start="1228">Whether you&#39\;re coming to eat\, explore local businesses\, connect with the community\, or all three\, the Community Expo is a can&#39\;t-miss event.</p>\n\n<p data-end="1445" data-start="1369">&#128073\; <strong data-end="1444" data-start="1372">Learn more\, <u><a href="https://forms.gle/7tE8x2VV9tyu6CpE6">register a booth</a></u>\, or purchase tickets at saukprairie.com</strong>.</p>\n</div>\n
LOCATION:Culver Community Park
UID:e.1184.36949
SEQUENCE:3
DTSTAMP:20260422T064917Z
URL:https://scms.saukprairie.com/events/details/2026-community-expo-eat-explore-connect-36949
END:VEVENT

END:VCALENDAR
